Workbook
Name Date: 'Date tournoi'!$B$2
Name NP: 'Liste des parties'!$1:$1048576

Sheet Liste des parties
A1: Num Partie | B1: Forfait | C1: Licence1 | D1: Dossard1 | E1: Nom1 | F1: Prenom1 | G1: Place1 | H1: Nb Point1 | I1: Echelon1 | J1: N°Club1 | K1: Club 1 | L1: Gagne1 | M1: Licence2 | N1: Dossard2 | O1: Nom2 | P1: Prenom2 | Q1: Place2 | R1: Nb Point2 | S1: Echelon2 | T1: N°Club2 | U1: Club 2 | V1: Gagne2 | W1: M1 | X1: M2 | Y1: M3 | Z1: M4 | AA1: M5 | AB1: M6 | AC1: M7 | AD1: Epreuve | AE1: Division | AF1: N° Table | AG1: Horaire | AL1: Double Club Id1 | AM1: Double Club Id2
A2: 1 | B2: 0 | C2: 2724365 | D2: 109 | E2: PREVOST | F2: Xavier | G2: 0 | H2: 500 | J2: 09270151 | K2: NEUBOURG QUITTEBEUF TT | L2: 0 | M2: 2724417 | N2: 105 | O2: POSIER | P2: Thomas | Q2: 0 | R2: 500 | T2: 09270015 | U2: CS ANDELYS | V2: 1 | W2: -3 | X2: -2 | Y2: -5 | AD2: D27_Challenge 505 Adultes | AE2: Challenge 505 Adultes groupe 2 - T1 - GR1
A3: 2 | B3: 0 | C3: 2723553 | D3: 101 | E3: MORISOT | F3: Anne-Sophie | G3: 0 | H3: 500 | J3: 09270041 | K3: STADE PORTE NORMANDE VERNON | L3: 0 | M3: 2721414 | N3: 116 | O3: ZANETTE | P3: Franck | Q3: 0 | R3: 500 | T3: 09270169 | U3: RAS ROMILLY AS | V3: 1 | W3: 7 | X3: 7 | Y3: -6 | Z3: -11 | AA3: -6 | AD3: D27_Challenge 505 Adultes | AE3: Challenge 505 Adultes groupe 2 - T1 - GR1
A4: 3 | B4: 0 | C4: 2724814 | D4: 113 | E4: TOUTAIN | F4: Francis | G4: 0 | H4: 500 | J4: 09270139 | K4: US GRAVIGNY TT | L4: 0 | M4: 2723465 | N4: 106 | O4: POTEL | P4: Sylvain | Q4: 0 | R4: 500 | T4: 09270041 | U4: STADE PORTE NORMANDE VERNON | V4: 1 | W4: -5 | X4: -10 | Y4: -9 | AD4: D27_Challenge 505 Adultes | AE4: Challenge 505 Adultes groupe 2 - T1 - GR1
A5: 4 | B5: 0 | C5: 2724580 | D5: 112 | E5: SOUTIF | F5: Francoise | G5: 0 | H5: 500 | J5: 09270156 | K5: C. S. BEAUMONT TT | L5: 0 | M5: 2723727 | N5: 108 | O5: PREVOST | P5: Thomas | Q5: 0 | R5: 504 | T5: 09270004 | U5: TT BRIONNE | V5: 1 | W5: -2 | X5: -1 | Y5: -4 | AD5: D27_Challenge 505 Adultes | AE5: Challenge 505 Adultes groupe 2 - T1 - GR1
A6: 5 | B6: 0 | C6: 2718231 | D6: 111 | E6: ROUSSELLE | F6: Virginie | G6: 0 | H6: 500 | J6: 09270152 | K6: GAILLON AUBEVOYE TT | L6: 0 | M6: 2724417 | N6: 105 | O6: POSIER | P6: Thomas | Q6: 0 | R6: 500 | T6: 09270015 | U6: CS ANDELYS | V6: 1 | W6: 11 | X6: -5 | Y6: -5 | Z6: -5 | AD6: D27_Challenge 505 Adultes | AE6: Challenge 505 Adultes groupe 2 - T1 - GR1
A7: 6 | B7: 0 | C7: 2721414 | D7: 116 | E7: ZANETTE | F7: Franck | G7: 0 | H7: 500 | J7: 09270169 | K7: RAS ROMILLY AS | L7: 1 | M7: 2723738 | N7: 110 | O7: ROTY | P7: Philippe | Q7: 0 | R7: 500 | T7: 09270041 | U7: STADE PORTE NORMANDE VERNON | V7: 0 | W7: 9 | X7: 7 | Y7: -9 | Z7: 10 | AD7: D27_Challenge 505 Adultes | AE7: Challenge 505 Adultes groupe 2 - T1 - GR1
A8: 7 | B8: 0 | C8: 2724882 | D8: 104 | E8: PIKORKI | F8: Eric | G8: 0 | H8: 500 | J8: 09270041 | K8: STADE PORTE NORMANDE VERNON | L8: 1 | M8: 2723465 | N8: 106 | O8: POTEL | P8: Sylvain | Q8: 0 | R8: 500 | T8: 09270041 | U8: STADE PORTE NORMANDE VERNON | V8: 0 | W8: 7 | X8: 7 | Y8: 4 | AD8: D27_Challenge 505 Adultes | AE8: Challenge 505 Adultes groupe 2 - T1 - GR1
A9: 8 | B9: 0 | C9: 2723727 | D9: 108 | E9: PREVOST | F9: Thomas | G9: 0 | H9: 504 | J9: 09270004 | K9: TT BRIONNE | L9: 1 | M9: 2719348 | N9: 102 | O9: MOTTE | P9: Philippe | Q9: 0 | R9: 500 | T9: 09270152 | U9: GAILLON AUBEVOYE TT | V9: 0 | W9: 5 | X9: 6 | Y9: 9 | AD9: D27_Challenge 505 Adultes | AE9: Challenge 505 Adultes groupe 2 - T1 - GR1
A10: 9 | B10: 0 | C10: 2724417 | D10: 105 | E10: POSIER | F10: Thomas | G10: 0 | H10: 500 | J10: 09270015 | K10: CS ANDELYS | L10: 1 | M10: 2721414 | N10: 116 | O10: ZANETTE | P10: Franck | Q10: 0 | R10: 500 | T10: 09270169 | U10: RAS ROMILLY AS | V10: 0 | W10: 2 | X10: 4 | Y10: 1 | AD10: D27_Challenge 505 Adultes | AE10: Challenge 505 Adultes groupe 2 - T1 - GR1
A11: 10 | B11: 0 | C11: 2724882 | D11: 104 | E11: PIKORKI | F11: Eric | G11: 0 | H11: 500 | J11: 09270041 | K11: STADE PORTE NORMANDE VERNON | L11: 1 | M11: 2723727 | N11: 108 | O11: PREVOST | P11: Thomas | Q11: 0 | R11: 504 | T11: 09270004 | U11: TT BRIONNE | V11: 0 | W11: 8 | X11: 8 | Y11: -7 | Z11: 8 | AD11: D27_Challenge 505 Adultes | AE11: Challenge 505 Adultes groupe 2 - T1 - GR1
A12: 11 | B12: 0 | C12: 2724417 | D12: 105 | E12: POSIER | F12: Thomas | G12: 0 | H12: 500 | J12: 09270015 | K12: CS ANDELYS | L12: 1 | M12: 2724882 | N12: 104 | O12: PIKORKI | P12: Eric | Q12: 0 | R12: 500 | T12: 09270041 | U12: STADE PORTE NORMANDE VERNON | V12: 0 | W12: -7 | X12: -2 | Y12: 9 | Z12: 11 | AA12: 4 | AD12: D27_Challenge 505 Adultes | AE12: Challenge 505 Adultes groupe 2 - T1 - GR1
A13: 12 | B13: 0 | C13: 2721414 | D13: 116 | E13: ZANETTE | F13: Franck | G13: 0 | H13: 500 | J13: 09270169 | K13: RAS ROMILLY AS | L13: 0 | M13: 2723727 | N13: 108 | O13: PREVOST | P13: Thomas | Q13: 0 | R13: 504 | T13: 09270004 | U13: TT BRIONNE | V13: 1 | W13: -7 | X13: -1 | Y13: -4 | AD13: D27_Challenge 505 Adultes | AE13: Challenge 505 Adultes groupe 2 - T1 - GR1
A14: 13 | B14: 0 | C14: 2718231 | D14: 111 | E14: ROUSSELLE | F14: Virginie | G14: 0 | H14: 500 | J14: 09270152 | K14: GAILLON AUBEVOYE TT | L14: 1 | M14: 2723738 | N14: 110 | O14: ROTY | P14: Philippe | Q14: 0 | R14: 500 | T14: 09270041 | U14: STADE PORTE NORMANDE VERNON | V14: 0 | W14: 8 | X14: 4 | Y14: 4 | AD14: D27_Challenge 505 Adultes | AE14: Challenge 505 Adultes groupe 2 - T1 - GR1
A15: 14 | B15: 0 | C15: 2723465 | D15: 106 | E15: POTEL | F15: Sylvain | G15: 0 | H15: 500 | J15: 09270041 | K15: STADE PORTE NORMANDE VERNON | L15: 1 | M15: 2719348 | N15: 102 | O15: MOTTE | P15: Philippe | Q15: 0 | R15: 500 | T15: 09270152 | U15: GAILLON AUBEVOYE TT | V15: 0 | W15: 3 | X15: 9 | Y15: 5 | AD15: D27_Challenge 505 Adultes | AE15: Challenge 505 Adultes groupe 2 - T1 - GR1
A16: 15 | B16: 0 | C16: 2718231 | D16: 111 | E16: ROUSSELLE | F16: Virginie | G16: 0 | H16: 500 | J16: 09270152 | K16: GAILLON AUBEVOYE TT | L16: 0 | M16: 2723465 | N16: 106 | O16: POTEL | P16: Sylvain | Q16: 0 | R16: 500 | T16: 09270041 | U16: STADE PORTE NORMANDE VERNON | V16: 1 | W16: 10 | X16: -7 | Y16: -6 | Z16: -4 | AD16: D27_Challenge 505 Adultes | AE16: Challenge 505 Adultes groupe 2 - T1 - GR1
A17: 16 | B17: 0 | C17: 2723738 | D17: 110 | E17: ROTY | F17: Philippe | G17: 0 | H17: 500 | J17: 09270041 | K17: STADE PORTE NORMANDE VERNON | L17: 0 | M17: 2719348 | N17: 102 | O17: MOTTE | P17: Philippe | Q17: 0 | R17: 500 | T17: 09270152 | U17: GAILLON AUBEVOYE TT | V17: 1 | W17: -9 | X17: -9 | Y17: 8 | Z17: -14 | AD17: D27_Challenge 505 Adultes | AE17: Challenge 505 Adultes groupe 2 - T1 - GR1
A18: 17 | B18: 0 | C18: 2724364 | D18: 107 | E18: PREVOST | F18: Berenice | G18: 0 | H18: 500 | J18: 09270151 | K18: NEUBOURG QUITTEBEUF TT | L18: 0 | M18: 2724365 | N18: 109 | O18: PREVOST | P18: Xavier | Q18: 0 | R18: 500 | T18: 09270151 | U18: NEUBOURG QUITTEBEUF TT | V18: 1 | W18: -5 | X18: -6 | Y18: -5 | AD18: D27_Challenge 505 Adultes | AE18: Challenge 505 Adultes groupe 2 - T1 - GR1
A19: 18 | B19: 0 | C19: 2723553 | D19: 101 | E19: MORISOT | F19: Anne-Sophie | G19: 0 | H19: 500 | J19: 09270041 | K19: STADE PORTE NORMANDE VERNON | L19: 1 | M19: 2718448 | N19: 114 | O19: TRAVERT | P19: Bruno | Q19: 0 | R19: 500 | T19: 09270015 | U19: CS ANDELYS | V19: 0 | W19: 6 | X19: 7 | Y19: 5 | AD19: D27_Challenge 505 Adultes | AE19: Challenge 505 Adultes groupe 2 - T1 - GR1
A20: 19 | B20: 0 | C20: 2723264 | D20: 115 | E20: VAILLANT | F20: Olivier | G20: 0 | H20: 500 | J20: 09270041 | K20: STADE PORTE NORMANDE VERNON | L20: 0 | M20: 2724814 | N20: 113 | O20: TOUTAIN | P20: Francis | Q20: 0 | R20: 500 | T20: 09270139 | U20: US GRAVIGNY TT | V20: 1 | W20: -7 | X20: -11 | Y20: -4 | AD20: D27_Challenge 505 Adultes | AE20: Challenge 505 Adultes groupe 2 - T1 - GR1
A21: 20 | B21: 0 | C21: 2724580 | D21: 112 | E21: SOUTIF | F21: Francoise | G21: 0 | H21: 500 | J21: 09270156 | K21: C. S. BEAUMONT TT | L21: 0 | M21: 2723810 | N21: 103 | O21: NEVEU | P21: Isabelle | Q21: 0 | R21: 500 | T21: 09270071 | U21: AS VAUDREUIL TENNIS TABLE | V21: 1 | W21: -10 | X21: 8 | Y21: -2 | Z21: 9 | AA21: -5 | AD21: D27_Challenge 505 Adultes | AE21: Challenge 505 Adultes groupe 2 - T1 - GR1
A22: 21 | B22: 0 | C22: 2724365 | D22: 109 | E22: PREVOST | F22: Xavier | G22: 0 | H22: 500 | J22: 09270151 | K22: NEUBOURG QUITTEBEUF TT | L22: 0 | M22: 2723553 | N22: 101 | O22: MORISOT | P22: Anne-Sophie | Q22: 0 | R22: 500 | T22: 09270041 | U22: STADE PORTE NORMANDE VERNON | V22: 1 | W22: 8 | X22: -6 | Y22: -5 | Z22: 8 | AA22: -7 | AD22: D27_Challenge 505 Adultes | AE22: Challenge 505 Adultes groupe 2 - T1 - GR1
A23: 22 | B23: 0 | C23: 2724814 | D23: 113 | E23: TOUTAIN | F23: Francis | G23: 0 | H23: 500 | J23: 09270139 | K23: US GRAVIGNY TT | L23: 1 | M23: 2723810 | N23: 103 | O23: NEVEU | P23: Isabelle | Q23: 0 | R23: 500 | T23: 09270071 | U23: AS VAUDREUIL TENNIS TABLE | V23: 0 | W23: 5 | X23: 11 | Y23: 7 | AD23: D27_Challenge 505 Adultes | AE23: Challenge 505 Adultes groupe 2 - T1 - GR1
A24: 23 | B24: 0 | C24: 2723553 | D24: 101 | E24: MORISOT | F24: Anne-Sophie | G24: 0 | H24: 500 | J24: 09270041 | K24: STADE PORTE NORMANDE VERNON | L24: 0 | M24: 2724814 | N24: 113 | O24: TOUTAIN | P24: Francis | Q24: 0 | R24: 500 | T24: 09270139 | U24: US GRAVIGNY TT | V24: 1 | W24: -6 | X24: -6 | Y24: -8 | AD24: D27_Challenge 505 Adultes | AE24: Challenge 505 Adultes groupe 2 - T1 - GR1
A25: 24 | B25: 0 | C25: 2724365 | D25: 109 | E25: PREVOST | F25: Xavier | G25: 0 | H25: 500 | J25: 09270151 | K25: NEUBOURG QUITTEBEUF TT | L25: 1 | M25: 2723810 | N25: 103 | O25: NEVEU | P25: Isabelle | Q25: 0 | R25: 500 | T25: 09270071 | U25: AS VAUDREUIL TENNIS TABLE | V25: 0 | W25: 4 | X25: 2 | Y25: 4 | AD25: D27_Challenge 505 Adultes | AE25: Challenge 505 Adultes groupe 2 - T1 - GR1
A26: 25 | B26: 0 | C26: 2724364 | D26: 107 | E26: PREVOST | F26: Berenice | G26: 0 | H26: 500 | J26: 09270151 | K26: NEUBOURG QUITTEBEUF TT | L26: 1 | M26: 2718448 | N26: 114 | O26: TRAVERT | P26: Bruno | Q26: 0 | R26: 500 | T26: 09270015 | U26: CS ANDELYS | V26: 0 | W26: 6 | X26: 8 | Y26: 6 | AD26: D27_Challenge 505 Adultes | AE26: Challenge 505 Adultes groupe 2 - T1 - GR1
A27: 26 | B27: 0 | C27: 2723264 | D27: 115 | E27: VAILLANT | F27: Olivier | G27: 0 | H27: 500 | J27: 09270041 | K27: STADE PORTE NORMANDE VERNON | L27: 1 | M27: 2724580 | N27: 112 | O27: SOUTIF | P27: Francoise | Q27: 0 | R27: 500 | T27: 09270156 | U27: C. S. BEAUMONT TT | V27: 0 | W27: 9 | X27: -6 | Y27: 10 | Z27: 12 | AD27: D27_Challenge 505 Adultes | AE27: Challenge 505 Adultes groupe 2 - T1 - GR1
A28: 27 | B28: 0 | C28: 2724364 | D28: 107 | E28: PREVOST | F28: Berenice | G28: 0 | H28: 500 | J28: 09270151 | K28: NEUBOURG QUITTEBEUF TT | L28: 0 | M28: 2723264 | N28: 115 | O28: VAILLANT | P28: Olivier | Q28: 0 | R28: 500 | T28: 09270041 | U28: STADE PORTE NORMANDE VERNON | V28: 1 | W28: -2 | X28: -2 | Y28: -2 | AD28: D27_Challenge 505 Adultes | AE28: Challenge 505 Adultes groupe 2 - T1 - GR1
A29: 28 | B29: 0 | C29: 2718448 | D29: 114 | E29: TRAVERT | F29: Bruno | G29: 0 | H29: 500 | J29: 09270015 | K29: CS ANDELYS | L29: 0 | M29: 2724580 | N29: 112 | O29: SOUTIF | P29: Francoise | Q29: 0 | R29: 500 | T29: 09270156 | U29: C. S. BEAUMONT TT | V29: 1 | AD29: D27_Challenge 505 Adultes | AE29: Challenge 505 Adultes groupe 2 - T1 - GR1

Sheet Date tournoi
A1: Paramètres
A2: Date | B2: 45739

Sheet Tableau V1
B2: 1/8ème de Finale | J2: 1/4ème de Finale | R2: 1/2ème de Finale | Z2: Finale
I5: 1 | J5: =IF(VLOOKUP(J8,NP,4,FALSE)=0,"",VLOOKUP(J8,NP,4,FALSE)) | K5: =IF(J5="","",CONCATENATE(VLOOKUP(J8,NP,5,FALSE)," ",VLOOKUP(J8,NP,6,FALSE)))
J6: =IF(OR(J5="",VLOOKUP(J8,NP,10,FALSE)=0),"",IF(LEN(VLOOKUP(J8,NP,10,FALSE))=7,VLOOKUP(J8,NP,10,FALSE),VLOOKUP(J8,NP,10,FALSE))) | K6: =IF(J5="","",CONCATENATE(VLOOKUP(J8,NP,8,FALSE)," pts - ",VLOOKUP(J8,NP,11,FALSE)))
R7: 1
J8: 5 | K8: Table | M8: =IF(VLOOKUP(J8,NP,32,FALSE)="","",IF(VLOOKUP(J8,NP,32,FALSE)=0,"",VLOOKUP(J8,NP,32,FALSE))) | N8: =IF(VLOOKUP(J8,NP,33,FALSE)="","",IF(VLOOKUP(J8,NP,34,FALSE)=2,"",VLOOKUP(J8,NP,34,FALSE))) | P8: =IF(VLOOKUP(J8,NP,33,FALSE)="","",IF(VLOOKUP(J8,NP,33,FALSE)=0,"",VLOOKUP(J8,NP,33,FALSE))) | R8: =IF(VLOOKUP(R14,NP,4,FALSE)=0,"",VLOOKUP(R14,NP,4,FALSE)) | S8: =IF(R8="","",CONCATENATE(VLOOKUP(R14,NP,5,FALSE)," ",VLOOKUP(R14,NP,6,FALSE)))
A9: 3 | B9: =IF(VLOOKUP(B11,NP,4,FALSE)=0,"",VLOOKUP(B11,NP,4,FALSE)) | C9: =IF(B9="","",CONCATENATE(VLOOKUP(B11,NP,5,FALSE)," ",VLOOKUP(B11,NP,6,FALSE))) | S9: =IF(R8="","",CONCATENATE(VLOOKUP(R14,NP,8,FALSE)," pts - ",VLOOKUP(R14,NP,11,FALSE)))
B10: =IF(OR(B9="",VLOOKUP(B11,NP,10,FALSE)=0),"",IF(LEN(VLOOKUP(B11,NP,10,FALSE))=7,VLOOKUP(B11,NP,10,FALSE),VLOOKUP(B11,NP,10,FALSE))) | C10: =IF(B9="","",CONCATENATE(VLOOKUP(B11,NP,8,FALSE)," pts - ",VLOOKUP(B11,NP,11,FALSE))) | J10: 4 | S10: =IF(R8="","",CONCATENATE(IF(VLOOKUP(J8,NP,23,FALSE)="","",IF(VLOOKUP(J8,NP,12,FALSE)=1,VLOOKUP(J8,NP,23,FALSE),-VLOOKUP(J8,NP,23,FALSE))),IF(VLOOKUP(J8,NP,24,FALSE)="","",CONCATENATE(" / ",IF(VLOOKUP(J8,NP,12,FALSE)=1,VLOOKUP(J8,NP,24,FALSE),-VLOOKUP(J8,NP,24,FALSE)))),IF(VLOOKUP(J8,NP,25,FALSE)="","",CONCATENATE(" / ",IF(VLOOKUP(J8,NP,12,FALSE)=1,VLOOKUP(J8,NP,25,FALSE),-VLOOKUP(J8,NP,25,FALSE)))),IF(VLOOKUP(J8,NP,26,FALSE)="","",CONCATENATE(" / ",IF(VLOOKUP(J8,NP,12,FALSE)=1,VLOOKUP(J8,NP,26,FALSE),-VLOOKUP(J8,NP,26,FALSE)))),IF(VLOOKUP(J8,NP,27,FALSE)="","",CONCATENATE(" / ",IF(VLOOKUP(J8,NP,12,FALSE)=1,VLOOKUP(J8,NP,27,FALSE),-VLOOKUP(J8,NP,27,FALSE)))),IF(VLOOKUP(J8,NP,28)="","",CONCATENATE(" / ",IF(VLOOKUP(J8,NP,12)=1,VLOOKUP(J8,NP,28),-VLOOKUP(J8,NP,28)))),IF(VLOOKUP(J8,NP,29)="","",CONCATENATE(" / ",IF(VLOOKUP(J8,NP,12)=1,VLOOKUP(J8,NP,29),-VLOOKUP(J8,NP,29))))))
B11: 1 | C11: Table | E11: =IF(VLOOKUP(B11,NP,32,FALSE)="","",IF(VLOOKUP(B11,NP,32,FALSE)=0,"",VLOOKUP(B11,NP,32,FALSE))) | F11: =IF(VLOOKUP(B11,NP,33,FALSE)="","",IF(VLOOKUP(B11,NP,34,FALSE)=2,"",VLOOKUP(B11,NP,34,FALSE))) | H11: =IF(VLOOKUP(B11,NP,33,FALSE)="","",IF(VLOOKUP(B11,NP,33,FALSE)=0,"",VLOOKUP(B11,NP,33,FALSE))) | J11: =IF(VLOOKUP(J8,NP,14,FALSE)=0,"",VLOOKUP(J8,NP,14,FALSE)) | K11: =IF(J11="","",CONCATENATE(VLOOKUP(J8,NP,15,FALSE)," ",VLOOKUP(J8,NP,16,FALSE)))
K12: =IF(J11="","",CONCATENATE(VLOOKUP(J8,NP,18,FALSE)," pts - ",VLOOKUP(J8,NP,21,FALSE)))
A13: 4 | B13: =IF(VLOOKUP(B11,NP,14,FALSE)=0,"",VLOOKUP(B11,NP,14,FALSE)) | C13: =IF(B13="","",CONCATENATE(VLOOKUP(B11,NP,15,FALSE)," ",VLOOKUP(B11,NP,16,FALSE))) | K13: =IF(J11="","",CONCATENATE(IF(VLOOKUP(B11,NP,23,FALSE)="","",IF(VLOOKUP(B11,NP,12,FALSE)=1,VLOOKUP(B11,NP,23,FALSE),-VLOOKUP(B11,NP,23,FALSE))),IF(VLOOKUP(B11,NP,24,FALSE)="","",CONCATENATE(" / ",IF(VLOOKUP(B11,NP,12,FALSE)=1,VLOOKUP(B11,NP,24,FALSE),-VLOOKUP(B11,NP,24,FALSE)))),IF(VLOOKUP(B11,NP,25,FALSE)="","",CONCATENATE(" / ",IF(VLOOKUP(B11,NP,12,FALSE)=1,VLOOKUP(B11,NP,25,FALSE),-VLOOKUP(B11,NP,25,FALSE)))),IF(VLOOKUP(B11,NP,26,FALSE)="","",CONCATENATE(" / ",IF(VLOOKUP(B11,NP,12,FALSE)=1,VLOOKUP(B11,NP,26,FALSE),-VLOOKUP(B11,NP,26,FALSE)))),IF(VLOOKUP(B11,NP,27,FALSE)="","",CONCATENATE(" / ",IF(VLOOKUP(B11,NP,12,FALSE)=1,VLOOKUP(B11,NP,27,FALSE),-VLOOKUP(B11,NP,27,FALSE)))),IF(VLOOKUP(B11,NP,28)="","",CONCATENATE(" / ",IF(VLOOKUP(B11,NP,12)=1,VLOOKUP(B11,NP,28),-VLOOKUP(B11,NP,28)))),IF(VLOOKUP(B11,NP,29)="","",CONCATENATE(" / ",IF(VLOOKUP(B11,NP,12)=1,VLOOKUP(B11,NP,29),-VLOOKUP(B11,NP,29)))))) | Z13: 1
B14: =IF(OR(B13="",VLOOKUP(B11,NP,20,FALSE)=0),"",IF(LEN(VLOOKUP(B11,NP,20,FALSE))=7,VLOOKUP(B11,NP,20,FALSE),VLOOKUP(B11,NP,20,FALSE))) | C14: =IF(B13="","",CONCATENATE(VLOOKUP(B11,NP,18,FALSE)," pts - ",VLOOKUP(B11,NP,21,FALSE))) | R14: 9 | S14: Table | U14: =IF(VLOOKUP(R14,NP,32,FALSE)="","",IF(VLOOKUP(R14,NP,32,FALSE)=0,"",VLOOKUP(R14,NP,32,FALSE))) | V14: =IF(VLOOKUP(R14,NP,33,FALSE)="","",IF(VLOOKUP(R14,NP,34,FALSE)=2,"",VLOOKUP(R14,NP,34,FALSE))) | X14: =IF(VLOOKUP(R14,NP,33,FALSE)="","",IF(VLOOKUP(R14,NP,33,FALSE)=0,"",VLOOKUP(R14,NP,33,FALSE))) | Z14: =IF(VLOOKUP(Z26,NP,4,FALSE)=0,"",VLOOKUP(Z26,NP,4,FALSE)) | AA14: =IF(Z14="","",CONCATENATE(VLOOKUP(Z26,NP,5,FALSE)," ",VLOOKUP(Z26,NP,6,FALSE)))
A15: 5 | B15: =IF(VLOOKUP(B17,NP,4,FALSE)=0,"",VLOOKUP(B17,NP,4,FALSE)) | C15: =IF(B15="","",CONCATENATE(VLOOKUP(B17,NP,5,FALSE)," ",VLOOKUP(B17,NP,6,FALSE))) | AA15: =IF(Z14="","",CONCATENATE(VLOOKUP(Z26,NP,8,FALSE)," pts - ",VLOOKUP(Z26,NP,11,FALSE)))
B16: =IF(OR(B15="",VLOOKUP(B17,NP,10,FALSE)=0),"",IF(LEN(VLOOKUP(B17,NP,10,FALSE))=7,VLOOKUP(B17,NP,10,FALSE),VLOOKUP(B17,NP,10,FALSE))) | C16: =IF(B15="","",CONCATENATE(VLOOKUP(B17,NP,8,FALSE)," pts - ",VLOOKUP(B17,NP,11,FALSE))) | J16: 5 | AA16: =IF(Z14="","",CONCATENATE(IF(VLOOKUP(R14,NP,23,FALSE)="","",IF(VLOOKUP(R14,NP,12,FALSE)=1,VLOOKUP(R14,NP,23,FALSE),-VLOOKUP(R14,NP,23,FALSE))),IF(VLOOKUP(R14,NP,24,FALSE)="","",CONCATENATE(" / ",IF(VLOOKUP(R14,NP,12,FALSE)=1,VLOOKUP(R14,NP,24,FALSE),-VLOOKUP(R14,NP,24,FALSE)))),IF(VLOOKUP(R14,NP,25,FALSE)="","",CONCATENATE(" / ",IF(VLOOKUP(R14,NP,12,FALSE)=1,VLOOKUP(R14,NP,25,FALSE),-VLOOKUP(R14,NP,25,FALSE)))),IF(VLOOKUP(R14,NP,26,FALSE)="","",CONCATENATE(" / ",IF(VLOOKUP(R14,NP,12,FALSE)=1,VLOOKUP(R14,NP,26,FALSE),-VLOOKUP(R14,NP,26,FALSE)))),IF(VLOOKUP(R14,NP,27,FALSE)="","",CONCATENATE(" / ",IF(VLOOKUP(R14,NP,12,FALSE)=1,VLOOKUP(R14,NP,27,FALSE),-VLOOKUP(R14,NP,27,FALSE)))),IF(VLOOKUP(R14,NP,28)="","",CONCATENATE(" / ",IF(VLOOKUP(R14,NP,12)=1,VLOOKUP(R14,NP,28),-VLOOKUP(R14,NP,28)))),IF(VLOOKUP(R14,NP,29)="","",CONCATENATE(" / ",IF(VLOOKUP(R14,NP,12)=1,VLOOKUP(R14,NP,29),-VLOOKUP(R14,NP,29))))))
B17: 2 | C17: Table | E17: =IF(VLOOKUP(B17,NP,32,FALSE)="","",IF(VLOOKUP(B17,NP,32,FALSE)=0,"",VLOOKUP(B17,NP,32,FALSE))) | F17: =IF(VLOOKUP(B17,NP,33,FALSE)="","",IF(VLOOKUP(B17,NP,34,FALSE)=2,"",VLOOKUP(B17,NP,34,FALSE))) | H17: =IF(VLOOKUP(B17,NP,33,FALSE)="","",IF(VLOOKUP(B17,NP,33,FALSE)=0,"",VLOOKUP(B17,NP,33,FALSE))) | J17: =IF(VLOOKUP(J20,NP,4,FALSE)=0,"",VLOOKUP(J20,NP,4,FALSE)) | K17: =IF(J17="","",CONCATENATE(VLOOKUP(J20,NP,5,FALSE)," ",VLOOKUP(J20,NP,6,FALSE)))
K18: =IF(J17="","",CONCATENATE(VLOOKUP(J20,NP,8,FALSE)," pts - ",VLOOKUP(J20,NP,11,FALSE)))
A19: 6 | B19: =IF(VLOOKUP(B17,NP,14,FALSE)=0,"",VLOOKUP(B17,NP,14,FALSE)) | C19: =IF(B19="","",CONCATENATE(VLOOKUP(B17,NP,15,FALSE)," ",VLOOKUP(B17,NP,16,FALSE))) | K19: =IF(J17="","",CONCATENATE(IF(VLOOKUP(B17,NP,23,FALSE)="","",IF(VLOOKUP(B17,NP,12,FALSE)=1,VLOOKUP(B17,NP,23,FALSE),-VLOOKUP(B17,NP,23,FALSE))),IF(VLOOKUP(B17,NP,24,FALSE)="","",CONCATENATE(" / ",IF(VLOOKUP(B17,NP,12,FALSE)=1,VLOOKUP(B17,NP,24,FALSE),-VLOOKUP(B17,NP,24,FALSE)))),IF(VLOOKUP(B17,NP,25,FALSE)="","",CONCATENATE(" / ",IF(VLOOKUP(B17,NP,12,FALSE)=1,VLOOKUP(B17,NP,25,FALSE),-VLOOKUP(B17,NP,25,FALSE)))),IF(VLOOKUP(B17,NP,26,FALSE)="","",CONCATENATE(" / ",IF(VLOOKUP(B17,NP,12,FALSE)=1,VLOOKUP(B17,NP,26,FALSE),-VLOOKUP(B17,NP,26,FALSE)))),IF(VLOOKUP(B17,NP,27,FALSE)="","",CONCATENATE(" / ",IF(VLOOKUP(B17,NP,12,FALSE)=1,VLOOKUP(B17,NP,27,FALSE),-VLOOKUP(B17,NP,27,FALSE)))),IF(VLOOKUP(B17,NP,28)="","",CONCATENATE(" / ",IF(VLOOKUP(B17,NP,12)=1,VLOOKUP(B17,NP,28),-VLOOKUP(B17,NP,28)))),IF(VLOOKUP(B17,NP,29)="","",CONCATENATE(" / ",IF(VLOOKUP(B17,NP,12)=1,VLOOKUP(B17,NP,29),-VLOOKUP(B17,NP,29))))))
B20: =IF(OR(B19="",VLOOKUP(B17,NP,20,FALSE)=0),"",IF(LEN(VLOOKUP(B17,NP,20,FALSE))=7,VLOOKUP(B17,NP,20,FALSE),VLOOKUP(B17,NP,20,FALSE))) | C20: =IF(B19="","",CONCATENATE(VLOOKUP(B17,NP,18,FALSE)," pts - ",VLOOKUP(B17,NP,21,FALSE))) | J20: 6 | K20: Table | M20: =IF(VLOOKUP(J20,NP,32,FALSE)="","",IF(VLOOKUP(J20,NP,32,FALSE)=0,"",VLOOKUP(J20,NP,32,FALSE))) | N20: =IF(VLOOKUP(J20,NP,33,FALSE)="","",IF(VLOOKUP(J20,NP,34,FALSE)=2,"",VLOOKUP(J20,NP,34,FALSE))) | P20: =IF(VLOOKUP(J20,NP,33,FALSE)="","",IF(VLOOKUP(J20,NP,33,FALSE)=0,"",VLOOKUP(J20,NP,33,FALSE))) | R20: =IF(VLOOKUP(R14,NP,14,FALSE)=0,"",VLOOKUP(R14,NP,14,FALSE)) | S20: =IF(R20="","",CONCATENATE(VLOOKUP(R14,NP,15,FALSE)," ",VLOOKUP(R14,NP,16,FALSE)))
R21: 8 | S21: =IF(R20="","",CONCATENATE(VLOOKUP(R14,NP,18,FALSE)," pts - ",VLOOKUP(R14,NP,21,FALSE)))
S22: =IF(R20="","",CONCATENATE(IF(VLOOKUP(J20,NP,23,FALSE)="","",IF(VLOOKUP(J20,NP,12,FALSE)=1,VLOOKUP(J20,NP,23,FALSE),-VLOOKUP(J20,NP,23,FALSE))),IF(VLOOKUP(J20,NP,24,FALSE)="","",CONCATENATE(" / ",IF(VLOOKUP(J20,NP,12,FALSE)=1,VLOOKUP(J20,NP,24,FALSE),-VLOOKUP(J20,NP,24,FALSE)))),IF(VLOOKUP(J20,NP,25,FALSE)="","",CONCATENATE(" / ",IF(VLOOKUP(J20,NP,12,FALSE)=1,VLOOKUP(J20,NP,25,FALSE),-VLOOKUP(J20,NP,25,FALSE)))),IF(VLOOKUP(J20,NP,26,FALSE)="","",CONCATENATE(" / ",IF(VLOOKUP(J20,NP,12,FALSE)=1,VLOOKUP(J20,NP,26,FALSE),-VLOOKUP(J20,NP,26,FALSE)))),IF(VLOOKUP(J20,NP,27,FALSE)="","",CONCATENATE(" / ",IF(VLOOKUP(J20,NP,12,FALSE)=1,VLOOKUP(J20,NP,27,FALSE),-VLOOKUP(J20,NP,27,FALSE)))),IF(VLOOKUP(J20,NP,28)="","",CONCATENATE(" / ",IF(VLOOKUP(J20,NP,12)=1,VLOOKUP(J20,NP,28),-VLOOKUP(J20,NP,28)))),IF(VLOOKUP(J20,NP,29)="","",CONCATENATE(" / ",IF(VLOOKUP(J20,NP,12)=1,VLOOKUP(J20,NP,29),-VLOOKUP(J20,NP,29))))))
I23: 8 | J23: =IF(VLOOKUP(J20,NP,14,FALSE)=0,"",VLOOKUP(J20,NP,14,FALSE)) | K23: =IF(J23="","",CONCATENATE(VLOOKUP(J20,NP,15,FALSE)," ",VLOOKUP(J20,NP,16,FALSE)))
J24: =IF(OR(J23="",VLOOKUP(J20,NP,20,FALSE)=0),"",IF(LEN(VLOOKUP(J20,NP,20,FALSE))=7,VLOOKUP(J20,NP,20,FALSE),VLOOKUP(J20,NP,20,FALSE))) | K24: =IF(J23="","",CONCATENATE(VLOOKUP(J20,NP,18,FALSE)," pts - ",VLOOKUP(J20,NP,21,FALSE)))
Z26: 11 | AA26: Table | AC26: =IF(VLOOKUP(Z26,NP,32,FALSE)="","",IF(VLOOKUP(Z26,NP,32,FALSE)=0,"",VLOOKUP(Z26,NP,32,FALSE))) | AD26: =IF(VLOOKUP(Z26,NP,33,FALSE)="","",IF(VLOOKUP(Z26,NP,34,FALSE)=2,"",VLOOKUP(Z26,NP,34,FALSE))) | AF26: =IF(VLOOKUP(Z26,NP,33,FALSE)="","",IF(VLOOKUP(Z26,NP,33,FALSE)=0,"",VLOOKUP(Z26,NP,33,FALSE))) | AH26: =IF(VLOOKUP(Z26,NP,12,FALSE)=1,VLOOKUP(Z26,NP,4,FALSE),IF(VLOOKUP(Z26,NP,22,FALSE)=1,VLOOKUP(Z26,NP,14,FALSE),"")) | AI26: =IF(AH26="","",IF(VLOOKUP(Z26,NP,12,FALSE)=1,CONCATENATE(VLOOKUP(Z26,NP,5,FALSE)," ",VLOOKUP(Z26,NP,6,FALSE)),IF(VLOOKUP(Z26,NP,22,FALSE)=1,CONCATENATE(VLOOKUP(Z26,NP,15,FALSE)," ",VLOOKUP(Z26,NP,16,FALSE)),""))) | AP26: 1er
AI27: =IF(AH26="","",IF(VLOOKUP(Z26,NP,12,FALSE)=1,CONCATENATE(VLOOKUP(Z26,NP,8,FALSE)," pts - ",VLOOKUP(Z26,NP,11,FALSE)),IF(VLOOKUP(Z26,NP,22,FALSE)=1,CONCATENATE(VLOOKUP(Z26,NP,18,FALSE)," pts - ",VLOOKUP(Z26,NP,21,FALSE)),"")))
AI28: =IF(AH26="","",CONCATENATE(IF(VLOOKUP(Z26,NP,23,FALSE)="","",IF(VLOOKUP(Z26,NP,12,FALSE)=1,VLOOKUP(Z26,NP,23,FALSE),-VLOOKUP(Z26,NP,23,FALSE))),IF(VLOOKUP(Z26,NP,24,FALSE)="","",CONCATENATE(" / ",IF(VLOOKUP(Z26,NP,12,FALSE)=1,VLOOKUP(Z26,NP,24,FALSE),-VLOOKUP(Z26,NP,24,FALSE)))),IF(VLOOKUP(Z26,NP,25,FALSE)="","",CONCATENATE(" / ",IF(VLOOKUP(Z26,NP,12,FALSE)=1,VLOOKUP(Z26,NP,25,FALSE),-VLOOKUP(Z26,NP,25,FALSE)))),IF(VLOOKUP(Z26,NP,26,FALSE)="","",CONCATENATE(" / ",IF(VLOOKUP(Z26,NP,12,FALSE)=1,VLOOKUP(Z26,NP,26,FALSE),-VLOOKUP(Z26,NP,26,FALSE)))),IF(VLOOKUP(Z26,NP,27,FALSE)="","",CONCATENATE(" / ",IF(VLOOKUP(Z26,NP,12,FALSE)=1,VLOOKUP(Z26,NP,27,FALSE),-VLOOKUP(Z26,NP,27,FALSE)))),IF(VLOOKUP(Z26,NP,28)="","",CONCATENATE(" / ",IF(VLOOKUP(Z26,NP,12)=1,VLOOKUP(Z26,NP,28),-VLOOKUP(Z26,NP,28)))),IF(VLOOKUP(Z26,NP,29)="","",CONCATENATE(" / ",IF(VLOOKUP(Z26,NP,12)=1,VLOOKUP(Z26,NP,29),-VLOOKUP(Z26,NP,29))))))
I29: 9 | J29: =IF(VLOOKUP(J32,NP,4,FALSE)=0,"",VLOOKUP(J32,NP,4,FALSE)) | K29: =IF(J29="","",CONCATENATE(VLOOKUP(J32,NP,5,FALSE)," ",VLOOKUP(J32,NP,6,FALSE)))
J30: =IF(OR(J29="",VLOOKUP(J32,NP,10,FALSE)=0),"",IF(LEN(VLOOKUP(J32,NP,10,FALSE))=7,VLOOKUP(J32,NP,10,FALSE),VLOOKUP(J32,NP,10,FALSE))) | K30: =IF(J29="","",CONCATENATE(VLOOKUP(J32,NP,8,FALSE)," pts - ",VLOOKUP(J32,NP,11,FALSE)))
R31: 9
J32: 7 | K32: Table | M32: =IF(VLOOKUP(J32,NP,32,FALSE)="","",IF(VLOOKUP(J32,NP,32,FALSE)=0,"",VLOOKUP(J32,NP,32,FALSE))) | N32: =IF(VLOOKUP(J32,NP,33,FALSE)="","",IF(VLOOKUP(J32,NP,34,FALSE)=2,"",VLOOKUP(J32,NP,34,FALSE))) | P32: =IF(VLOOKUP(J32,NP,33,FALSE)="","",IF(VLOOKUP(J32,NP,33,FALSE)=0,"",VLOOKUP(J32,NP,33,FALSE))) | R32: =IF(VLOOKUP(R38,NP,4,FALSE)=0,"",VLOOKUP(R38,NP,4,FALSE)) | S32: =IF(R32="","",CONCATENATE(VLOOKUP(R38,NP,5,FALSE)," ",VLOOKUP(R38,NP,6,FALSE)))
A33: 11 | B33: =IF(VLOOKUP(B35,NP,4,FALSE)=0,"",VLOOKUP(B35,NP,4,FALSE)) | C33: =IF(B33="","",CONCATENATE(VLOOKUP(B35,NP,5,FALSE)," ",VLOOKUP(B35,NP,6,FALSE))) | S33: =IF(R32="","",CONCATENATE(VLOOKUP(R38,NP,8,FALSE)," pts - ",VLOOKUP(R38,NP,11,FALSE)))
B34: =IF(OR(B33="",VLOOKUP(B35,NP,10,FALSE)=0),"",IF(LEN(VLOOKUP(B35,NP,10,FALSE))=7,VLOOKUP(B35,NP,10,FALSE),VLOOKUP(B35,NP,10,FALSE))) | C34: =IF(B33="","",CONCATENATE(VLOOKUP(B35,NP,8,FALSE)," pts - ",VLOOKUP(B35,NP,11,FALSE))) | J34: 12 | S34: =IF(R32="","",CONCATENATE(IF(VLOOKUP(J32,NP,23,FALSE)="","",IF(VLOOKUP(J32,NP,12,FALSE)=1,VLOOKUP(J32,NP,23,FALSE),-VLOOKUP(J32,NP,23,FALSE))),IF(VLOOKUP(J32,NP,24,FALSE)="","",CONCATENATE(" / ",IF(VLOOKUP(J32,NP,12,FALSE)=1,VLOOKUP(J32,NP,24,FALSE),-VLOOKUP(J32,NP,24,FALSE)))),IF(VLOOKUP(J32,NP,25,FALSE)="","",CONCATENATE(" / ",IF(VLOOKUP(J32,NP,12,FALSE)=1,VLOOKUP(J32,NP,25,FALSE),-VLOOKUP(J32,NP,25,FALSE)))),IF(VLOOKUP(J32,NP,26,FALSE)="","",CONCATENATE(" / ",IF(VLOOKUP(J32,NP,12,FALSE)=1,VLOOKUP(J32,NP,26,FALSE),-VLOOKUP(J32,NP,26,FALSE)))),IF(VLOOKUP(J32,NP,27,FALSE)="","",CONCATENATE(" / ",IF(VLOOKUP(J32,NP,12,FALSE)=1,VLOOKUP(J32,NP,27,FALSE),-VLOOKUP(J32,NP,27,FALSE)))),IF(VLOOKUP(J32,NP,28)="","",CONCATENATE(" / ",IF(VLOOKUP(J32,NP,12)=1,VLOOKUP(J32,NP,28),-VLOOKUP(J32,NP,28)))),IF(VLOOKUP(J32,NP,29)="","",CONCATENATE(" / ",IF(VLOOKUP(J32,NP,12)=1,VLOOKUP(J32,NP,29),-VLOOKUP(J32,NP,29))))))
B35: 3 | C35: Table | E35: =IF(VLOOKUP(B35,NP,32,FALSE)="","",IF(VLOOKUP(B35,NP,32,FALSE)=0,"",VLOOKUP(B35,NP,32,FALSE))) | F35: =IF(VLOOKUP(B35,NP,33,FALSE)="","",IF(VLOOKUP(B35,NP,34,FALSE)=2,"",VLOOKUP(B35,NP,34,FALSE))) | H35: =IF(VLOOKUP(B35,NP,33,FALSE)="","",IF(VLOOKUP(B35,NP,33,FALSE)=0,"",VLOOKUP(B35,NP,33,FALSE))) | J35: =IF(VLOOKUP(J32,NP,14,FALSE)=0,"",VLOOKUP(J32,NP,14,FALSE)) | K35: =IF(J35="","",CONCATENATE(VLOOKUP(J32,NP,15,FALSE)," ",VLOOKUP(J32,NP,16,FALSE)))
K36: =IF(J35="","",CONCATENATE(VLOOKUP(J32,NP,18,FALSE)," pts - ",VLOOKUP(J32,NP,21,FALSE)))
A37: 12 | B37: =IF(VLOOKUP(B35,NP,14,FALSE)=0,"",VLOOKUP(B35,NP,14,FALSE)) | C37: =IF(B37="","",CONCATENATE(VLOOKUP(B35,NP,15,FALSE)," ",VLOOKUP(B35,NP,16,FALSE))) | K37: =IF(J35="","",CONCATENATE(IF(VLOOKUP(B35,NP,23,FALSE)="","",IF(VLOOKUP(B35,NP,12,FALSE)=1,VLOOKUP(B35,NP,23,FALSE),-VLOOKUP(B35,NP,23,FALSE))),IF(VLOOKUP(B35,NP,24,FALSE)="","",CONCATENATE(" / ",IF(VLOOKUP(B35,NP,12,FALSE)=1,VLOOKUP(B35,NP,24,FALSE),-VLOOKUP(B35,NP,24,FALSE)))),IF(VLOOKUP(B35,NP,25,FALSE)="","",CONCATENATE(" / ",IF(VLOOKUP(B35,NP,12,FALSE)=1,VLOOKUP(B35,NP,25,FALSE),-VLOOKUP(B35,NP,25,FALSE)))),IF(VLOOKUP(B35,NP,26,FALSE)="","",CONCATENATE(" / ",IF(VLOOKUP(B35,NP,12,FALSE)=1,VLOOKUP(B35,NP,26,FALSE),-VLOOKUP(B35,NP,26,FALSE)))),IF(VLOOKUP(B35,NP,27,FALSE)="","",CONCATENATE(" / ",IF(VLOOKUP(B35,NP,12,FALSE)=1,VLOOKUP(B35,NP,27,FALSE),-VLOOKUP(B35,NP,27,FALSE)))),IF(VLOOKUP(B35,NP,28)="","",CONCATENATE(" / ",IF(VLOOKUP(B35,NP,12)=1,VLOOKUP(B35,NP,28),-VLOOKUP(B35,NP,28)))),IF(VLOOKUP(B35,NP,29)="","",CONCATENATE(" / ",IF(VLOOKUP(B35,NP,12)=1,VLOOKUP(B35,NP,29),-VLOOKUP(B35,NP,29))))))
B38: =IF(OR(B37="",VLOOKUP(B35,NP,20,FALSE)=0),"",IF(LEN(VLOOKUP(B35,NP,20,FALSE))=7,VLOOKUP(B35,NP,20,FALSE),VLOOKUP(B35,NP,20,FALSE))) | C38: =IF(B37="","",CONCATENATE(VLOOKUP(B35,NP,18,FALSE)," pts - ",VLOOKUP(B35,NP,21,FALSE))) | R38: 10 | S38: Table | U38: =IF(VLOOKUP(R38,NP,32,FALSE)="","",IF(VLOOKUP(R38,NP,32,FALSE)=0,"",VLOOKUP(R38,NP,32,FALSE))) | V38: =IF(VLOOKUP(R38,NP,33,FALSE)="","",IF(VLOOKUP(R38,NP,34,FALSE)=2,"",VLOOKUP(R38,NP,34,FALSE))) | X38: =IF(VLOOKUP(R38,NP,33,FALSE)="","",IF(VLOOKUP(R38,NP,33,FALSE)=0,"",VLOOKUP(R38,NP,33,FALSE))) | Z38: =IF(VLOOKUP(Z26,NP,14,FALSE)=0,"",VLOOKUP(Z26,NP,14,FALSE)) | AA38: =IF(Z38="","",CONCATENATE(VLOOKUP(Z26,NP,15,FALSE)," ",VLOOKUP(Z26,NP,16,FALSE)))
A39: 13 | B39: =IF(VLOOKUP(B41,NP,4,FALSE)=0,"",VLOOKUP(B41,NP,4,FALSE)) | C39: =IF(B39="","",CONCATENATE(VLOOKUP(B41,NP,5,FALSE)," ",VLOOKUP(B41,NP,6,FALSE))) | Z39: 16 | AA39: =IF(Z38="","",CONCATENATE(VLOOKUP(Z26,NP,18,FALSE)," pts - ",VLOOKUP(Z26,NP,21,FALSE)))
B40: =IF(OR(B39="",VLOOKUP(B41,NP,10,FALSE)=0),"",IF(LEN(VLOOKUP(B41,NP,10,FALSE))=7,VLOOKUP(B41,NP,10,FALSE),VLOOKUP(B41,NP,10,FALSE))) | C40: =IF(B39="","",CONCATENATE(VLOOKUP(B41,NP,8,FALSE)," pts - ",VLOOKUP(B41,NP,11,FALSE))) | J40: 13 | AA40: =IF(Z38="","",CONCATENATE(IF(VLOOKUP(R38,NP,23,FALSE)="","",IF(VLOOKUP(R38,NP,12,FALSE)=1,VLOOKUP(R38,NP,23,FALSE),-VLOOKUP(R38,NP,23,FALSE))),IF(VLOOKUP(R38,NP,24,FALSE)="","",CONCATENATE(" / ",IF(VLOOKUP(R38,NP,12,FALSE)=1,VLOOKUP(R38,NP,24,FALSE),-VLOOKUP(R38,NP,24,FALSE)))),IF(VLOOKUP(R38,NP,25,FALSE)="","",CONCATENATE(" / ",IF(VLOOKUP(R38,NP,12,FALSE)=1,VLOOKUP(R38,NP,25,FALSE),-VLOOKUP(R38,NP,25,FALSE)))),IF(VLOOKUP(R38,NP,26,FALSE)="","",CONCATENATE(" / ",IF(VLOOKUP(R38,NP,12,FALSE)=1,VLOOKUP(R38,NP,26,FALSE),-VLOOKUP(R38,NP,26,FALSE)))),IF(VLOOKUP(R38,NP,27,FALSE)="","",CONCATENATE(" / ",IF(VLOOKUP(R38,NP,12,FALSE)=1,VLOOKUP(R38,NP,27,FALSE),-VLOOKUP(R38,NP,27,FALSE)))),IF(VLOOKUP(R38,NP,28)="","",CONCATENATE(" / ",IF(VLOOKUP(R38,NP,12)=1,VLOOKUP(R38,NP,28),-VLOOKUP(R38,NP,28)))),IF(VLOOKUP(R38,NP,29)="","",CONCATENATE(" / ",IF(VLOOKUP(R38,NP,12)=1,VLOOKUP(R38,NP,29),-VLOOKUP(R38,NP,29))))))
B41: 4 | C41: Table | E41: =IF(VLOOKUP(B41,NP,32,FALSE)="","",IF(VLOOKUP(B41,NP,32,FALSE)=0,"",VLOOKUP(B41,NP,32,FALSE))) | F41: =IF(VLOOKUP(B41,NP,33,FALSE)="","",IF(VLOOKUP(B41,NP,34,FALSE)=2,"",VLOOKUP(B41,NP,34,FALSE))) | H41: =IF(VLOOKUP(B41,NP,33,FALSE)="","",IF(VLOOKUP(B41,NP,33,FALSE)=0,"",VLOOKUP(B41,NP,33,FALSE))) | J41: =IF(VLOOKUP(J44,NP,4,FALSE)=0,"",VLOOKUP(J44,NP,4,FALSE)) | K41: =IF(J41="","",CONCATENATE(VLOOKUP(J44,NP,5,FALSE)," ",VLOOKUP(J44,NP,6,FALSE))) | AH41: =IF(AND(VLOOKUP(Z26,NP,12,FALSE)=0,VLOOKUP(Z26,NP,22,FALSE)=0),"",IF(VLOOKUP(Z26,NP,12,FALSE)=0,VLOOKUP(Z26,NP,4,FALSE),IF(VLOOKUP(Z26,NP,22,FALSE)=0,VLOOKUP(Z26,NP,14,FALSE),""))) | AI41: =IF(AH41="","",IF(VLOOKUP(Z26,NP,12,FALSE)=0,CONCATENATE(VLOOKUP(Z26,NP,5,FALSE)," ",VLOOKUP(Z26,NP,6,FALSE)),IF(VLOOKUP(Z26,NP,22,FALSE)=0,CONCATENATE(VLOOKUP(Z26,NP,15,FALSE)," ",VLOOKUP(Z26,NP,16,FALSE)),""))) | AP41: 2ème
K42: =IF(J41="","",CONCATENATE(VLOOKUP(J44,NP,8,FALSE)," pts - ",VLOOKUP(J44,NP,11,FALSE))) | AI42: =IF(AH41="","",IF(VLOOKUP(Z26,NP,12,FALSE)=0,CONCATENATE(VLOOKUP(Z26,NP,8,FALSE)," pts - ",VLOOKUP(Z26,NP,11,FALSE)),IF(VLOOKUP(Z26,NP,22,FALSE)=0,CONCATENATE(VLOOKUP(Z26,NP,18,FALSE)," pts - ",VLOOKUP(Z26,NP,21,FALSE)),"")))
A43: 14 | B43: =IF(VLOOKUP(B41,NP,14,FALSE)=0,"",VLOOKUP(B41,NP,14,FALSE)) | C43: =IF(B43="","",CONCATENATE(VLOOKUP(B41,NP,15,FALSE)," ",VLOOKUP(B41,NP,16,FALSE))) | K43: =IF(J41="","",CONCATENATE(IF(VLOOKUP(B41,NP,23,FALSE)="","",IF(VLOOKUP(B41,NP,12,FALSE)=1,VLOOKUP(B41,NP,23,FALSE),-VLOOKUP(B41,NP,23,FALSE))),IF(VLOOKUP(B41,NP,24,FALSE)="","",CONCATENATE(" / ",IF(VLOOKUP(B41,NP,12,FALSE)=1,VLOOKUP(B41,NP,24,FALSE),-VLOOKUP(B41,NP,24,FALSE)))),IF(VLOOKUP(B41,NP,25,FALSE)="","",CONCATENATE(" / ",IF(VLOOKUP(B41,NP,12,FALSE)=1,VLOOKUP(B41,NP,25,FALSE),-VLOOKUP(B41,NP,25,FALSE)))),IF(VLOOKUP(B41,NP,26,FALSE)="","",CONCATENATE(" / ",IF(VLOOKUP(B41,NP,12,FALSE)=1,VLOOKUP(B41,NP,26,FALSE),-VLOOKUP(B41,NP,26,FALSE)))),IF(VLOOKUP(B41,NP,27,FALSE)="","",CONCATENATE(" / ",IF(VLOOKUP(B41,NP,12,FALSE)=1,VLOOKUP(B41,NP,27,FALSE),-VLOOKUP(B41,NP,27,FALSE)))),IF(VLOOKUP(B41,NP,28)="","",CONCATENATE(" / ",IF(VLOOKUP(B41,NP,12)=1,VLOOKUP(B41,NP,28),-VLOOKUP(B41,NP,28)))),IF(VLOOKUP(B41,NP,29)="","",CONCATENATE(" / ",IF(VLOOKUP(B41,NP,12)=1,VLOOKUP(B41,NP,29),-VLOOKUP(B41,NP,29))))))
B44: =IF(OR(B43="",VLOOKUP(B41,NP,20,FALSE)=0),"",IF(LEN(VLOOKUP(B41,NP,20,FALSE))=7,VLOOKUP(B41,NP,20,FALSE),VLOOKUP(B41,NP,20,FALSE))) | C44: =IF(B43="","",CONCATENATE(VLOOKUP(B41,NP,18,FALSE)," pts - ",VLOOKUP(B41,NP,21,FALSE))) | J44: 8 | K44: Table | M44: =IF(VLOOKUP(J44,NP,32,FALSE)="","",IF(VLOOKUP(J44,NP,32,FALSE)=0,"",VLOOKUP(J44,NP,32,FALSE))) | N44: =IF(VLOOKUP(J44,NP,33,FALSE)="","",IF(VLOOKUP(J44,NP,34,FALSE)=2,"",VLOOKUP(J44,NP,34,FALSE))) | P44: =IF(VLOOKUP(J44,NP,33,FALSE)="","",IF(VLOOKUP(J44,NP,33,FALSE)=0,"",VLOOKUP(J44,NP,33,FALSE))) | R44: =IF(VLOOKUP(R38,NP,14,FALSE)=0,"",VLOOKUP(R38,NP,14,FALSE)) | S44: =IF(R44="","",CONCATENATE(VLOOKUP(R38,NP,15,FALSE)," ",VLOOKUP(R38,NP,16,FALSE)))
...

Sheet Tableau
J2: Places 9ème/10éme | R2: Places 9 à 12 | Z2: Places 9 à 16 | AH2: 1/8 de Finale | AP2: 1/4 de Finale | AX2: 1/2 Finale | BF2: Finale
Z5: =IF(AG5="","",CONCATENATE(VLOOKUP(AG8,NP,5,FALSE)," ",VLOOKUP(AG8,NP,6,FALSE))) | AG5: =IF(VLOOKUP(AG8,NP,4,FALSE)=0,"",VLOOKUP(AG8,NP,4,FALSE)) | AH5: 2 | AP5: 1 | AQ5: =IF(VLOOKUP(AQ8,NP,4,FALSE)=0,"",VLOOKUP(AQ8,NP,4,FALSE)) | AR5: =IF(AQ5="","",CONCATENATE(VLOOKUP(AQ8,NP,5,FALSE)," ",VLOOKUP(AQ8,NP,6,FALSE)))
Z6: =IF(AG5="","",CONCATENATE(VLOOKUP(AG8,NP,8,FALSE)," pts - ",VLOOKUP(AG8,NP,11,FALSE))) | AG6: =IF(OR(AG5="",VLOOKUP(AG8,NP,10,FALSE)=0),"",IF(LEN(VLOOKUP(AG8,NP,10,FALSE))=7,VLOOKUP(AG8,NP,10,FALSE),VLOOKUP(AG8,NP,10,FALSE))) | AQ6: =IF(OR(AQ5="",VLOOKUP(AQ8,NP,10,FALSE)=0),"",IF(LEN(VLOOKUP(AQ8,NP,10,FALSE))=7,VLOOKUP(AQ8,NP,10,FALSE),VLOOKUP(AQ8,NP,10,FALSE))) | AR6: =IF(AQ5="","",CONCATENATE(VLOOKUP(AQ8,NP,8,FALSE)," pts - ",VLOOKUP(AQ8,NP,11,FALSE)))
Y7: 3 | AY7: 1
R8: =IF(Y8="","",CONCATENATE(VLOOKUP(Y14,NP,5,FALSE)," ",VLOOKUP(Y14,NP,6,FALSE))) | Y8: =IF(VLOOKUP(Y14,NP,4,FALSE)=0,"",VLOOKUP(Y14,NP,4,FALSE)) | Z8: Table | AB8: =IF(VLOOKUP(AG8,NP,32,FALSE)="","",IF(VLOOKUP(AG8,NP,32,FALSE)=0,"",VLOOKUP(AG8,NP,32,FALSE))) | AC8: =IF(VLOOKUP(AG8,NP,33,FALSE)="","",IF(VLOOKUP(AG8,NP,34,FALSE)=2,"",VLOOKUP(AG8,NP,34,FALSE))) | AE8: =IF(VLOOKUP(AG8,NP,33,FALSE)="","",IF(VLOOKUP(AG8,NP,33,FALSE)=0,"",VLOOKUP(AG8,NP,33,FALSE))) | AG8: 17 | AQ8: 5 | AR8: Table | AT8: =IF(VLOOKUP(AQ8,NP,32,FALSE)="","",IF(VLOOKUP(AQ8,NP,32,FALSE)=0,"",VLOOKUP(AQ8,NP,32,FALSE))) | AU8: =IF(VLOOKUP(AQ8,NP,33,FALSE)="","",IF(VLOOKUP(AQ8,NP,34,FALSE)=2,"",VLOOKUP(AQ8,NP,34,FALSE))) | AW8: =IF(VLOOKUP(AQ8,NP,33,FALSE)="","",IF(VLOOKUP(AQ8,NP,33,FALSE)=0,"",VLOOKUP(AQ8,NP,33,FALSE))) | AY8: =IF(VLOOKUP(AY14,NP,4,FALSE)=0,"",VLOOKUP(AY14,NP,4,FALSE)) | AZ8: =IF(AY8="","",CONCATENATE(VLOOKUP(AY14,NP,5,FALSE)," ",VLOOKUP(AY14,NP,6,FALSE)))
R9: =IF(Y8="","",CONCATENATE(VLOOKUP(Y14,NP,8,FALSE)," pts - ",VLOOKUP(Y14,NP,11,FALSE))) | AH9: 3 | AI9: =IF(VLOOKUP(AI11,NP,4,FALSE)=0,"",VLOOKUP(AI11,NP,4,FALSE)) | AJ9: =IF(AI9="","",CONCATENATE(VLOOKUP(AI11,NP,5,FALSE)," ",VLOOKUP(AI11,NP,6,FALSE))) | AZ9: =IF(AY8="","",CONCATENATE(VLOOKUP(AY14,NP,8,FALSE)," pts - ",VLOOKUP(AY14,NP,11,FALSE)))
R10: =IF(Y8="","",CONCATENATE(IF(VLOOKUP(AG8,NP,23,FALSE)="","",IF(VLOOKUP(AG8,NP,12,FALSE)=1,VLOOKUP(AG8,NP,23,FALSE),-VLOOKUP(AG8,NP,23,FALSE))),IF(VLOOKUP(AG8,NP,24,FALSE)="","",CONCATENATE(" / ",IF(VLOOKUP(AG8,NP,12,FALSE)=1,VLOOKUP(AG8,NP,24,FALSE),-VLOOKUP(AG8,NP,24,FALSE)))),IF(VLOOKUP(AG8,NP,25,FALSE)="","",CONCATENATE(" / ",IF(VLOOKUP(AG8,NP,12,FALSE)=1,VLOOKUP(AG8,NP,25,FALSE),-VLOOKUP(AG8,NP,25,FALSE)))),IF(VLOOKUP(AG8,NP,26,FALSE)="","",CONCATENATE(" / ",IF(VLOOKUP(AG8,NP,12,FALSE)=1,VLOOKUP(AG8,NP,26,FALSE),-VLOOKUP(AG8,NP,26,FALSE)))),IF(VLOOKUP(AG8,NP,27,FALSE)="","",CONCATENATE(" / ",IF(VLOOKUP(AG8,NP,12,FALSE)=1,VLOOKUP(AG8,NP,27,FALSE),-VLOOKUP(AG8,NP,27,FALSE)))),IF(VLOOKUP(AG8,NP,28)="","",CONCATENATE(" / ",IF(VLOOKUP(AG8,NP,12)=1,VLOOKUP(AG8,NP,28),-VLOOKUP(AG8,NP,28)))),IF(VLOOKUP(AG8,NP,29)="","",CONCATENATE(" / ",IF(VLOOKUP(AG8,NP,12)=1,VLOOKUP(AG8,NP,29),-VLOOKUP(AG8,NP,29)))))) | AI10: =IF(OR(AI9="",VLOOKUP(AI11,NP,10,FALSE)=0),"",IF(LEN(VLOOKUP(AI11,NP,10,FALSE))=7,VLOOKUP(AI11,NP,10,FALSE),VLOOKUP(AI11,NP,10,FALSE))) | AJ10: =IF(AI9="","",CONCATENATE(VLOOKUP(AI11,NP,8,FALSE)," pts - ",VLOOKUP(AI11,NP,11,FALSE))) | AQ10: 4 | AZ10: =IF(AY8="","",CONCATENATE(IF(VLOOKUP(AQ8,NP,23,FALSE)="","",IF(VLOOKUP(AQ8,NP,12,FALSE)=1,VLOOKUP(AQ8,NP,23,FALSE),-VLOOKUP(AQ8,NP,23,FALSE))),IF(VLOOKUP(AQ8,NP,24,FALSE)="","",CONCATENATE(" / ",IF(VLOOKUP(AQ8,NP,12,FALSE)=1,VLOOKUP(AQ8,NP,24,FALSE),-VLOOKUP(AQ8,NP,24,FALSE)))),IF(VLOOKUP(AQ8,NP,25,FALSE)="","",CONCATENATE(" / ",IF(VLOOKUP(AQ8,NP,12,FALSE)=1,VLOOKUP(AQ8,NP,25,FALSE),-VLOOKUP(AQ8,NP,25,FALSE)))),IF(VLOOKUP(AQ8,NP,26,FALSE)="","",CONCATENATE(" / ",IF(VLOOKUP(AQ8,NP,12,FALSE)=1,VLOOKUP(AQ8,NP,26,FALSE),-VLOOKUP(AQ8,NP,26,FALSE)))),IF(VLOOKUP(AQ8,NP,27,FALSE)="","",CONCATENATE(" / ",IF(VLOOKUP(AQ8,NP,12,FALSE)=1,VLOOKUP(AQ8,NP,27,FALSE),-VLOOKUP(AQ8,NP,27,FALSE)))),IF(VLOOKUP(AQ8,NP,28)="","",CONCATENATE(" / ",IF(VLOOKUP(AQ8,NP,12)=1,VLOOKUP(AQ8,NP,28),-VLOOKUP(AQ8,NP,28)))),IF(VLOOKUP(AQ8,NP,29)="","",CONCATENATE(" / ",IF(VLOOKUP(AQ8,NP,12)=1,VLOOKUP(AQ8,NP,29),-VLOOKUP(AQ8,NP,29))))))
Z11: =IF(AG11="","",IF(VLOOKUP(AI11,NP,12,FALSE)=0,CONCATENATE(VLOOKUP(AI11,NP,5,FALSE)," ",VLOOKUP(AI11,NP,6,FALSE)),IF(VLOOKUP(AI11,NP,22,FALSE)=0,CONCATENATE(VLOOKUP(AI11,NP,15,FALSE)," ",VLOOKUP(AI11,NP,16,FALSE)),""))) | AG11: =IF(AND(VLOOKUP(AI11,NP,12,FALSE)=0,VLOOKUP(AI11,NP,22,FALSE)=0),"",IF(VLOOKUP(AI11,NP,12,FALSE)=0,VLOOKUP(AI11,NP,4,FALSE),IF(VLOOKUP(AI11,NP,22,FALSE)=0,VLOOKUP(AI11,NP,14,FALSE),""))) | AI11: 1 | AJ11: Table | AL11: =IF(VLOOKUP(AI11,NP,32,FALSE)="","",IF(VLOOKUP(AI11,NP,32,FALSE)=0,"",VLOOKUP(AI11,NP,32,FALSE))) | AM11: =IF(VLOOKUP(AI11,NP,33,FALSE)="","",IF(VLOOKUP(AI11,NP,34,FALSE)=2,"",VLOOKUP(AI11,NP,34,FALSE))) | AO11: =IF(VLOOKUP(AI11,NP,33,FALSE)="","",IF(VLOOKUP(AI11,NP,33,FALSE)=0,"",VLOOKUP(AI11,NP,33,FALSE))) | AQ11: =IF(VLOOKUP(AQ8,NP,14,FALSE)=0,"",VLOOKUP(AQ8,NP,14,FALSE)) | AR11: =IF(AQ11="","",CONCATENATE(VLOOKUP(AQ8,NP,15,FALSE)," ",VLOOKUP(AQ8,NP,16,FALSE)))
Z12: =IF(AG11="","",IF(VLOOKUP(AI11,NP,12,FALSE)=0,CONCATENATE(VLOOKUP(AI11,NP,8,FALSE)," pts - ",VLOOKUP(AI11,NP,11,FALSE)),IF(VLOOKUP(AI11,NP,22,FALSE)=0,CONCATENATE(VLOOKUP(AI11,NP,18,FALSE)," pts - ",VLOOKUP(AI11,NP,21,FALSE)),""))) | AG12: 3 | AR12: =IF(AQ11="","",CONCATENATE(VLOOKUP(AQ8,NP,18,FALSE)," pts - ",VLOOKUP(AQ8,NP,21,FALSE)))
Q13: 3 | AH13: 4 | AI13: =IF(VLOOKUP(AI11,NP,14,FALSE)=0,"",VLOOKUP(AI11,NP,14,FALSE)) | AJ13: =IF(AI13="","",CONCATENATE(VLOOKUP(AI11,NP,15,FALSE)," ",VLOOKUP(AI11,NP,16,FALSE))) | AR13: =IF(AQ11="","",CONCATENATE(IF(VLOOKUP(AI11,NP,23,FALSE)="","",IF(VLOOKUP(AI11,NP,12,FALSE)=1,VLOOKUP(AI11,NP,23,FALSE),-VLOOKUP(AI11,NP,23,FALSE))),IF(VLOOKUP(AI11,NP,24,FALSE)="","",CONCATENATE(" / ",IF(VLOOKUP(AI11,NP,12,FALSE)=1,VLOOKUP(AI11,NP,24,FALSE),-VLOOKUP(AI11,NP,24,FALSE)))),IF(VLOOKUP(AI11,NP,25,FALSE)="","",CONCATENATE(" / ",IF(VLOOKUP(AI11,NP,12,FALSE)=1,VLOOKUP(AI11,NP,25,FALSE),-VLOOKUP(AI11,NP,25,FALSE)))),IF(VLOOKUP(AI11,NP,26,FALSE)="","",CONCATENATE(" / ",IF(VLOOKUP(AI11,NP,12,FALSE)=1,VLOOKUP(AI11,NP,26,FALSE),-VLOOKUP(AI11,NP,26,FALSE)))),IF(VLOOKUP(AI11,NP,27,FALSE)="","",CONCATENATE(" / ",IF(VLOOKUP(AI11,NP,12,FALSE)=1,VLOOKUP(AI11,NP,27,FALSE),-VLOOKUP(AI11,NP,27,FALSE)))),IF(VLOOKUP(AI11,NP,28)="","",CONCATENATE(" / ",IF(VLOOKUP(AI11,NP,12)=1,VLOOKUP(AI11,NP,28),-VLOOKUP(AI11,NP,28)))),IF(VLOOKUP(AI11,NP,29)="","",CONCATENATE(" / ",IF(VLOOKUP(AI11,NP,12)=1,VLOOKUP(AI11,NP,29),-VLOOKUP(AI11,NP,29)))))) | BG13: 1
J14: =IF(Q14="","",CONCATENATE(VLOOKUP(Q24,NP,5,FALSE)," ",VLOOKUP(Q24,NP,6,FALSE))) | Q14: =IF(VLOOKUP(Q24,NP,4,FALSE)=0,"",VLOOKUP(Q24,NP,4,FALSE)) | R14: Table | T14: =IF(VLOOKUP(Y14,NP,32,FALSE)="","",IF(VLOOKUP(Y14,NP,32,FALSE)=0,"",VLOOKUP(Y14,NP,32,FALSE))) | U14: =IF(VLOOKUP(Y14,NP,33,FALSE)="","",IF(VLOOKUP(Y14,NP,34,FALSE)=2,"",VLOOKUP(Y14,NP,34,FALSE))) | W14: =IF(VLOOKUP(Y14,NP,33,FALSE)="","",IF(VLOOKUP(Y14,NP,33,FALSE)=0,"",VLOOKUP(Y14,NP,33,FALSE))) | Y14: 21 | AI14: =IF(OR(AI13="",VLOOKUP(AI11,NP,20,FALSE)=0),"",IF(LEN(VLOOKUP(AI11,NP,20,FALSE))=7,VLOOKUP(AI11,NP,20,FALSE),VLOOKUP(AI11,NP,20,FALSE))) | AJ14: =IF(AI13="","",CONCATENATE(VLOOKUP(AI11,NP,18,FALSE)," pts - ",VLOOKUP(AI11,NP,21,FALSE))) | AY14: 9 | AZ14: Table | BB14: =IF(VLOOKUP(AY14,NP,32,FALSE)="","",IF(VLOOKUP(AY14,NP,32,FALSE)=0,"",VLOOKUP(AY14,NP,32,FALSE))) | BC14: =IF(VLOOKUP(AY14,NP,33,FALSE)="","",IF(VLOOKUP(AY14,NP,34,FALSE)=2,"",VLOOKUP(AY14,NP,34,FALSE))) | BE14: =IF(VLOOKUP(AY14,NP,33,FALSE)="","",IF(VLOOKUP(AY14,NP,33,FALSE)=0,"",VLOOKUP(AY14,NP,33,FALSE))) | BG14: =IF(VLOOKUP(BG26,NP,4,FALSE)=0,"",VLOOKUP(BG26,NP,4,FALSE)) | BH14: =IF(BG14="","",CONCATENATE(VLOOKUP(BG26,NP,5,FALSE)," ",VLOOKUP(BG26,NP,6,FALSE)))
J15: =IF(Q14="","",CONCATENATE(VLOOKUP(Q24,NP,8,FALSE)," pts - ",VLOOKUP(Q24,NP,11,FALSE))) | AH15: 5 | AI15: =IF(VLOOKUP(AI17,NP,4,FALSE)=0,"",VLOOKUP(AI17,NP,4,FALSE)) | AJ15: =IF(AI15="","",CONCATENATE(VLOOKUP(AI17,NP,5,FALSE)," ",VLOOKUP(AI17,NP,6,FALSE))) | BH15: =IF(BG14="","",CONCATENATE(VLOOKUP(BG26,NP,8,FALSE)," pts - ",VLOOKUP(BG26,NP,11,FALSE)))
J16: =IF(Q14="","",CONCATENATE(IF(VLOOKUP(Y14,NP,23,FALSE)="","",IF(VLOOKUP(Y14,NP,12,FALSE)=1,VLOOKUP(Y14,NP,23,FALSE),-VLOOKUP(Y14,NP,23,FALSE))),IF(VLOOKUP(Y14,NP,24,FALSE)="","",CONCATENATE(" / ",IF(VLOOKUP(Y14,NP,12,FALSE)=1,VLOOKUP(Y14,NP,24,FALSE),-VLOOKUP(Y14,NP,24,FALSE)))),IF(VLOOKUP(Y14,NP,25,FALSE)="","",CONCATENATE(" / ",IF(VLOOKUP(Y14,NP,12,FALSE)=1,VLOOKUP(Y14,NP,25,FALSE),-VLOOKUP(Y14,NP,25,FALSE)))),IF(VLOOKUP(Y14,NP,26,FALSE)="","",CONCATENATE(" / ",IF(VLOOKUP(Y14,NP,12,FALSE)=1,VLOOKUP(Y14,NP,26,FALSE),-VLOOKUP(Y14,NP,26,FALSE)))),IF(VLOOKUP(Y14,NP,27,FALSE)="","",CONCATENATE(" / ",IF(VLOOKUP(Y14,NP,12,FALSE)=1,VLOOKUP(Y14,NP,27,FALSE),-VLOOKUP(Y14,NP,27,FALSE)))),IF(VLOOKUP(Y14,NP,28)="","",CONCATENATE(" / ",IF(VLOOKUP(Y14,NP,12)=1,VLOOKUP(Y14,NP,28),-VLOOKUP(Y14,NP,28)))),IF(VLOOKUP(Y14,NP,29)="","",CONCATENATE(" / ",IF(VLOOKUP(Y14,NP,12)=1,VLOOKUP(Y14,NP,29),-VLOOKUP(Y14,NP,29)))))) | AG16: 6 | AI16: =IF(OR(AI15="",VLOOKUP(AI17,NP,10,FALSE)=0),"",IF(LEN(VLOOKUP(AI17,NP,10,FALSE))=7,VLOOKUP(AI17,NP,10,FALSE),VLOOKUP(AI17,NP,10,FALSE))) | AJ16: =IF(AI15="","",CONCATENATE(VLOOKUP(AI17,NP,8,FALSE)," pts - ",VLOOKUP(AI17,NP,11,FALSE))) | AQ16: 5 | BH16: =IF(BG14="","",CONCATENATE(IF(VLOOKUP(AY14,NP,23,FALSE)="","",IF(VLOOKUP(AY14,NP,12,FALSE)=1,VLOOKUP(AY14,NP,23,FALSE),-VLOOKUP(AY14,NP,23,FALSE))),IF(VLOOKUP(AY14,NP,24,FALSE)="","",CONCATENATE(" / ",IF(VLOOKUP(AY14,NP,12,FALSE)=1,VLOOKUP(AY14,NP,24,FALSE),-VLOOKUP(AY14,NP,24,FALSE)))),IF(VLOOKUP(AY14,NP,25,FALSE)="","",CONCATENATE(" / ",IF(VLOOKUP(AY14,NP,12,FALSE)=1,VLOOKUP(AY14,NP,25,FALSE),-VLOOKUP(AY14,NP,25,FALSE)))),IF(VLOOKUP(AY14,NP,26,FALSE)="","",CONCATENATE(" / ",IF(VLOOKUP(AY14,NP,12,FALSE)=1,VLOOKUP(AY14,NP,26,FALSE),-VLOOKUP(AY14,NP,26,FALSE)))),IF(VLOOKUP(AY14,NP,27,FALSE)="","",CONCATENATE(" / ",IF(VLOOKUP(AY14,NP,12,FALSE)=1,VLOOKUP(AY14,NP,27,FALSE),-VLOOKUP(AY14,NP,27,FALSE)))),IF(VLOOKUP(AY14,NP,28)="","",CONCATENATE(" / ",IF(VLOOKUP(AY14,NP,12)=1,VLOOKUP(AY14,NP,28),-VLOOKUP(AY14,NP,28)))),IF(VLOOKUP(AY14,NP,29)="","",CONCATENATE(" / ",IF(VLOOKUP(AY14,NP,12)=1,VLOOKUP(AY14,NP,29),-VLOOKUP(AY14,NP,29))))))
Z17: =IF(AG17="","",IF(VLOOKUP(AI17,NP,12,FALSE)=0,CONCATENATE(VLOOKUP(AI17,NP,5,FALSE)," ",VLOOKUP(AI17,NP,6,FALSE)),IF(VLOOKUP(AI17,NP,22,FALSE)=0,CONCATENATE(VLOOKUP(AI17,NP,15,FALSE)," ",VLOOKUP(AI17,NP,16,FALSE)),""))) | AG17: =IF(AND(VLOOKUP(AI17,NP,12,FALSE)=0,VLOOKUP(AI17,NP,22,FALSE)=0),"",IF(VLOOKUP(AI17,NP,12,FALSE)=0,VLOOKUP(AI17,NP,4,FALSE),IF(VLOOKUP(AI17,NP,22,FALSE)=0,VLOOKUP(AI17,NP,14,FALSE),""))) | AI17: 2 | AJ17: Table | AL17: =IF(VLOOKUP(AI17,NP,32,FALSE)="","",IF(VLOOKUP(AI17,NP,32,FALSE)=0,"",VLOOKUP(AI17,NP,32,FALSE))) | AM17: =IF(VLOOKUP(AI17,NP,33,FALSE)="","",IF(VLOOKUP(AI17,NP,34,FALSE)=2,"",VLOOKUP(AI17,NP,34,FALSE))) | AO17: =IF(VLOOKUP(AI17,NP,33,FALSE)="","",IF(VLOOKUP(AI17,NP,33,FALSE)=0,"",VLOOKUP(AI17,NP,33,FALSE))) | AQ17: =IF(VLOOKUP(AQ20,NP,4,FALSE)=0,"",VLOOKUP(AQ20,NP,4,FALSE)) | AR17: =IF(AQ17="","",CONCATENATE(VLOOKUP(AQ20,NP,5,FALSE)," ",VLOOKUP(AQ20,NP,6,FALSE)))
Z18: =IF(AG17="","",IF(VLOOKUP(AI17,NP,12,FALSE)=0,CONCATENATE(VLOOKUP(AI17,NP,8,FALSE)," pts - ",VLOOKUP(AI17,NP,11,FALSE)),IF(VLOOKUP(AI17,NP,22,FALSE)=0,CONCATENATE(VLOOKUP(AI17,NP,18,FALSE)," pts - ",VLOOKUP(AI17,NP,21,FALSE)),""))) | AR18: =IF(AQ17="","",CONCATENATE(VLOOKUP(AQ20,NP,8,FALSE)," pts - ",VLOOKUP(AQ20,NP,11,FALSE)))
AH19: 6 | AI19: =IF(VLOOKUP(AI17,NP,14,FALSE)=0,"",VLOOKUP(AI17,NP,14,FALSE)) | AJ19: =IF(AI19="","",CONCATENATE(VLOOKUP(AI17,NP,15,FALSE)," ",VLOOKUP(AI17,NP,16,FALSE))) | AR19: =IF(AQ17="","",CONCATENATE(IF(VLOOKUP(AI17,NP,23,FALSE)="","",IF(VLOOKUP(AI17,NP,12,FALSE)=1,VLOOKUP(AI17,NP,23,FALSE),-VLOOKUP(AI17,NP,23,FALSE))),IF(VLOOKUP(AI17,NP,24,FALSE)="","",CONCATENATE(" / ",IF(VLOOKUP(AI17,NP,12,FALSE)=1,VLOOKUP(AI17,NP,24,FALSE),-VLOOKUP(AI17,NP,24,FALSE)))),IF(VLOOKUP(AI17,NP,25,FALSE)="","",CONCATENATE(" / ",IF(VLOOKUP(AI17,NP,12,FALSE)=1,VLOOKUP(AI17,NP,25,FALSE),-VLOOKUP(AI17,NP,25,FALSE)))),IF(VLOOKUP(AI17,NP,26,FALSE)="","",CONCATENATE(" / ",IF(VLOOKUP(AI17,NP,12,FALSE)=1,VLOOKUP(AI17,NP,26,FALSE),-VLOOKUP(AI17,NP,26,FALSE)))),IF(VLOOKUP(AI17,NP,27,FALSE)="","",CONCATENATE(" / ",IF(VLOOKUP(AI17,NP,12,FALSE)=1,VLOOKUP(AI17,NP,27,FALSE),-VLOOKUP(AI17,NP,27,FALSE)))),IF(VLOOKUP(AI17,NP,28)="","",CONCATENATE(" / ",IF(VLOOKUP(AI17,NP,12)=1,VLOOKUP(AI17,NP,28),-VLOOKUP(AI17,NP,28)))),IF(VLOOKUP(AI17,NP,29)="","",CONCATENATE(" / ",IF(VLOOKUP(AI17,NP,12)=1,VLOOKUP(AI17,NP,29),-VLOOKUP(AI17,NP,29))))))
R20: =IF(Y20="","",CONCATENATE(VLOOKUP(Y14,NP,15,FALSE)," ",VLOOKUP(Y14,NP,16,FALSE))) | Y20: =IF(VLOOKUP(Y14,NP,14,FALSE)=0,"",VLOOKUP(Y14,NP,14,FALSE)) | Z20: Table | AB20: =IF(VLOOKUP(AG20,NP,32,FALSE)="","",IF(VLOOKUP(AG20,NP,32,FALSE)=0,"",VLOOKUP(AG20,NP,32,FALSE))) | AC20: =IF(VLOOKUP(AG20,NP,33,FALSE)="","",IF(VLOOKUP(AG20,NP,34,FALSE)=2,"",VLOOKUP(AG20,NP,34,FALSE))) | AE20: =IF(VLOOKUP(AG20,NP,33,FALSE)="","",IF(VLOOKUP(AG20,NP,33,FALSE)=0,"",VLOOKUP(AG20,NP,33,FALSE))) | AG20: 18 | AI20: =IF(OR(AI19="",VLOOKUP(AI17,NP,20,FALSE)=0),"",IF(LEN(VLOOKUP(AI17,NP,20,FALSE))=7,VLOOKUP(AI17,NP,20,FALSE),VLOOKUP(AI17,NP,20,FALSE))) | AJ20: =IF(AI19="","",CONCATENATE(VLOOKUP(AI17,NP,18,FALSE)," pts - ",VLOOKUP(AI17,NP,21,FALSE))) | AQ20: 6 | AR20: Table | AT20: =IF(VLOOKUP(AQ20,NP,32,FALSE)="","",IF(VLOOKUP(AQ20,NP,32,FALSE)=0,"",VLOOKUP(AQ20,NP,32,FALSE))) | AU20: =IF(VLOOKUP(AQ20,NP,33,FALSE)="","",IF(VLOOKUP(AQ20,NP,34,FALSE)=2,"",VLOOKUP(AQ20,NP,34,FALSE))) | AW20: =IF(VLOOKUP(AQ20,NP,33,FALSE)="","",IF(VLOOKUP(AQ20,NP,33,FALSE)=0,"",VLOOKUP(AQ20,NP,33,FALSE))) | AY20: =IF(VLOOKUP(AY14,NP,14,FALSE)=0,"",VLOOKUP(AY14,NP,14,FALSE)) | AZ20: =IF(AY20="","",CONCATENATE(VLOOKUP(AY14,NP,15,FALSE)," ",VLOOKUP(AY14,NP,16,FALSE)))
R21: =IF(Y20="","",CONCATENATE(VLOOKUP(Y14,NP,18,FALSE)," pts - ",VLOOKUP(Y14,NP,21,FALSE))) | Y21: 6 | AY21: 8 | AZ21: =IF(AY20="","",CONCATENATE(VLOOKUP(AY14,NP,18,FALSE)," pts - ",VLOOKUP(AY14,NP,21,FALSE)))
R22: =IF(Y20="","",CONCATENATE(IF(VLOOKUP(AG20,NP,23,FALSE)="","",IF(VLOOKUP(AG20,NP,12,FALSE)=1,VLOOKUP(AG20,NP,23,FALSE),-VLOOKUP(AG20,NP,23,FALSE))),IF(VLOOKUP(AG20,NP,24,FALSE)="","",CONCATENATE(" / ",IF(VLOOKUP(AG20,NP,12,FALSE)=1,VLOOKUP(AG20,NP,24,FALSE),-VLOOKUP(AG20,NP,24,FALSE)))),IF(VLOOKUP(AG20,NP,25,FALSE)="","",CONCATENATE(" / ",IF(VLOOKUP(AG20,NP,12,FALSE)=1,VLOOKUP(AG20,NP,25,FALSE),-VLOOKUP(AG20,NP,25,FALSE)))),IF(VLOOKUP(AG20,NP,26,FALSE)="","",CONCATENATE(" / ",IF(VLOOKUP(AG20,NP,12,FALSE)=1,VLOOKUP(AG20,NP,26,FALSE),-VLOOKUP(AG20,NP,26,FALSE)))),IF(VLOOKUP(AG20,NP,27,FALSE)="","",CONCATENATE(" / ",IF(VLOOKUP(AG20,NP,12,FALSE)=1,VLOOKUP(AG20,NP,27,FALSE),-VLOOKUP(AG20,NP,27,FALSE)))),IF(VLOOKUP(AG20,NP,28)="","",CONCATENATE(" / ",IF(VLOOKUP(AG20,NP,12)=1,VLOOKUP(AG20,NP,28),-VLOOKUP(AG20,NP,28)))),IF(VLOOKUP(AG20,NP,29)="","",CONCATENATE(" / ",IF(VLOOKUP(AG20,NP,12)=1,VLOOKUP(AG20,NP,29),-VLOOKUP(AG20,NP,29)))))) | AZ22: =IF(AY20="","",CONCATENATE(IF(VLOOKUP(AQ20,NP,23,FALSE)="","",IF(VLOOKUP(AQ20,NP,12,FALSE)=1,VLOOKUP(AQ20,NP,23,FALSE),-VLOOKUP(AQ20,NP,23,FALSE))),IF(VLOOKUP(AQ20,NP,24,FALSE)="","",CONCATENATE(" / ",IF(VLOOKUP(AQ20,NP,12,FALSE)=1,VLOOKUP(AQ20,NP,24,FALSE),-VLOOKUP(AQ20,NP,24,FALSE)))),IF(VLOOKUP(AQ20,NP,25,FALSE)="","",CONCATENATE(" / ",IF(VLOOKUP(AQ20,NP,12,FALSE)=1,VLOOKUP(AQ20,NP,25,FALSE),-VLOOKUP(AQ20,NP,25,FALSE)))),IF(VLOOKUP(AQ20,NP,26,FALSE)="","",CONCATENATE(" / ",IF(VLOOKUP(AQ20,NP,12,FALSE)=1,VLOOKUP(AQ20,NP,26,FALSE),-VLOOKUP(AQ20,NP,26,FALSE)))),IF(VLOOKUP(AQ20,NP,27,FALSE)="","",CONCATENATE(" / ",IF(VLOOKUP(AQ20,NP,12,FALSE)=1,VLOOKUP(AQ20,NP,27,FALSE),-VLOOKUP(AQ20,NP,27,FALSE)))),IF(VLOOKUP(AQ20,NP,28)="","",CONCATENATE(" / ",IF(VLOOKUP(AQ20,NP,12)=1,VLOOKUP(AQ20,NP,28),-VLOOKUP(AQ20,NP,28)))),IF(VLOOKUP(AQ20,NP,29)="","",CONCATENATE(" / ",IF(VLOOKUP(AQ20,NP,12)=1,VLOOKUP(AQ20,NP,29),-VLOOKUP(AQ20,NP,29))))))
Z23: =IF(AG23="","",CONCATENATE(VLOOKUP(AG20,NP,15,FALSE)," ",VLOOKUP(AG20,NP,16,FALSE))) | AG23: =IF(VLOOKUP(AG20,NP,14,FALSE)=0,"",VLOOKUP(AG20,NP,14,FALSE)) | AH23: 7 | AP23: 8 | AQ23: =IF(VLOOKUP(AQ20,NP,14,FALSE)=0,"",VLOOKUP(AQ20,NP,14,FALSE)) | AR23: =IF(AQ23="","",CONCATENATE(VLOOKUP(AQ20,NP,15,FALSE)," ",VLOOKUP(AQ20,NP,16,FALSE)))
A24: 9ème | B24: =IF(I24="","",IF(VLOOKUP(Q24,NP,12,FALSE)=1,CONCATENATE(VLOOKUP(Q24,NP,5,FALSE)," ",VLOOKUP(Q24,NP,6,FALSE)),IF(VLOOKUP(Q24,NP,22,FALSE)=1,CONCATENATE(VLOOKUP(Q24,NP,15,FALSE)," ",VLOOKUP(Q24,NP,16,FALSE)),""))) | I24: =IF(VLOOKUP(Q24,NP,12,FALSE)=1,VLOOKUP(Q24,NP,4,FALSE),IF(VLOOKUP(Q24,NP,22,FALSE)=1,VLOOKUP(Q24,NP,14,FALSE),"")) | J24: Table | L24: =IF(VLOOKUP(Q24,NP,32,FALSE)="","",IF(VLOOKUP(Q24,NP,32,FALSE)=0,"",VLOOKUP(Q24,NP,32,FALSE))) | M24: =IF(VLOOKUP(Q24,NP,33,FALSE)="","",IF(VLOOKUP(Q24,NP,34,FALSE)=2,"",VLOOKUP(Q24,NP,34,FALSE))) | O24: =IF(VLOOKUP(Q24,NP,33,FALSE)="","",IF(VLOOKUP(Q24,NP,33,FALSE)=0,"",VLOOKUP(Q24,NP,33,FALSE))) | Q24: 23 | Z24: =IF(AG23="","",CONCATENATE(VLOOKUP(AG20,NP,18,FALSE)," pts - ",VLOOKUP(AG20,NP,21,FALSE))) | AG24: =IF(OR(AG23="",VLOOKUP(AG20,NP,20,FALSE)=0),"",IF(LEN(VLOOKUP(AG20,NP,20,FALSE))=7,VLOOKUP(AG20,NP,20,FALSE),VLOOKUP(AG20,NP,20,FALSE))) | AQ24: =IF(OR(AQ23="",VLOOKUP(AQ20,NP,20,FALSE)=0),"",IF(LEN(VLOOKUP(AQ20,NP,20,FALSE))=7,VLOOKUP(AQ20,NP,20,FALSE),VLOOKUP(AQ20,NP,20,FALSE))) | AR24: =IF(AQ23="","",CONCATENATE(VLOOKUP(AQ20,NP,18,FALSE)," pts - ",VLOOKUP(AQ20,NP,21,FALSE)))
B25: =IF(I24="","",IF(VLOOKUP(Q24,NP,12,FALSE)=1,CONCATENATE(VLOOKUP(Q24,NP,8,FALSE)," pts - ",VLOOKUP(Q24,NP,11,FALSE)),IF(VLOOKUP(Q24,NP,22,FALSE)=1,CONCATENATE(VLOOKUP(Q24,NP,18,FALSE)," pts - ",VLOOKUP(Q24,NP,21,FALSE)),"")))
B26: =IF(I24="","",CONCATENATE(IF(VLOOKUP(Q24,NP,23,FALSE)="","",IF(VLOOKUP(Q24,NP,12,FALSE)=1,VLOOKUP(Q24,NP,23,FALSE),-VLOOKUP(Q24,NP,23,FALSE))),IF(VLOOKUP(Q24,NP,24,FALSE)="","",CONCATENATE(" / ",IF(VLOOKUP(Q24,NP,12,FALSE)=1,VLOOKUP(Q24,NP,24,FALSE),-VLOOKUP(Q24,NP,24,FALSE)))),IF(VLOOKUP(Q24,NP,25,FALSE)="","",CONCATENATE(" / ",IF(VLOOKUP(Q24,NP,12,FALSE)=1,VLOOKUP(Q24,NP,25,FALSE),-VLOOKUP(Q24,NP,25,FALSE)))),IF(VLOOKUP(Q24,NP,26,FALSE)="","",CONCATENATE(" / ",IF(VLOOKUP(Q24,NP,12,FALSE)=1,VLOOKUP(Q24,NP,26,FALSE),-VLOOKUP(Q24,NP,26,FALSE)))),IF(VLOOKUP(Q24,NP,27,FALSE)="","",CONCATENATE(" / ",IF(VLOOKUP(Q24,NP,12,FALSE)=1,VLOOKUP(Q24,NP,27,FALSE),-VLOOKUP(Q24,NP,27,FALSE)))),IF(VLOOKUP(Q24,NP,28)="","",CONCATENATE(" / ",IF(VLOOKUP(Q24,NP,12)=1,VLOOKUP(Q24,NP,28),-VLOOKUP(Q24,NP,28)))),IF(VLOOKUP(Q24,NP,29)="","",CONCATENATE(" / ",IF(VLOOKUP(Q24,NP,12)=1,VLOOKUP(Q24,NP,29),-VLOOKUP(Q24,NP,29)))))) | BG26: 11 | BH26: Table | BJ26: =IF(VLOOKUP(BG26,NP,32,FALSE)="","",IF(VLOOKUP(BG26,NP,32,FALSE)=0,"",VLOOKUP(BG26,NP,32,FALSE))) | BK26: =IF(VLOOKUP(BG26,NP,33,FALSE)="","",IF(VLOOKUP(BG26,NP,34,FALSE)=2,"",VLOOKUP(BG26,NP,34,FALSE))) | BM26: =IF(VLOOKUP(BG26,NP,33,FALSE)="","",IF(VLOOKUP(BG26,NP,33,FALSE)=0,"",VLOOKUP(BG26,NP,33,FALSE))) | BO26: =IF(VLOOKUP(BG26,NP,12,FALSE)=1,VLOOKUP(BG26,NP,4,FALSE),IF(VLOOKUP(BG26,NP,22,FALSE)=1,VLOOKUP(BG26,NP,14,FALSE),"")) | BP26: =IF(BO26="","",IF(VLOOKUP(BG26,NP,12,FALSE)=1,CONCATENATE(VLOOKUP(BG26,NP,5,FALSE)," ",VLOOKUP(BG26,NP,6,FALSE)),IF(VLOOKUP(BG26,NP,22,FALSE)=1,CONCATENATE(VLOOKUP(BG26,NP,15,FALSE)," ",VLOOKUP(BG26,NP,16,FALSE)),""))) | BW26: 1er
BP27: =IF(BO26="","",IF(VLOOKUP(BG26,NP,12,FALSE)=1,CONCATENATE(VLOOKUP(BG26,NP,8,FALSE)," pts - ",VLOOKUP(BG26,NP,11,FALSE)),IF(VLOOKUP(BG26,NP,22,FALSE)=1,CONCATENATE(VLOOKUP(BG26,NP,18,FALSE)," pts - ",VLOOKUP(BG26,NP,21,FALSE)),"")))
BP28: =IF(BO26="","",CONCATENATE(IF(VLOOKUP(BG26,NP,23,FALSE)="","",IF(VLOOKUP(BG26,NP,12,FALSE)=1,VLOOKUP(BG26,NP,23,FALSE),-VLOOKUP(BG26,NP,23,FALSE))),IF(VLOOKUP(BG26,NP,24,FALSE)="","",CONCATENATE(" / ",IF(VLOOKUP(BG26,NP,12,FALSE)=1,VLOOKUP(BG26,NP,24,FALSE),-VLOOKUP(BG26,NP,24,FALSE)))),IF(VLOOKUP(BG26,NP,25,FALSE)="","",CONCATENATE(" / ",IF(VLOOKUP(BG26,NP,12,FALSE)=1,VLOOKUP(BG26,NP,25,FALSE),-VLOOKUP(BG26,NP,25,FALSE)))),IF(VLOOKUP(BG26,NP,26,FALSE)="","",CONCATENATE(" / ",IF(VLOOKUP(BG26,NP,12,FALSE)=1,VLOOKUP(BG26,NP,26,FALSE),-VLOOKUP(BG26,NP,26,FALSE)))),IF(VLOOKUP(BG26,NP,27,FALSE)="","",CONCATENATE(" / ",IF(VLOOKUP(BG26,NP,12,FALSE)=1,VLOOKUP(BG26,NP,27,FALSE),-VLOOKUP(BG26,NP,27,FALSE)))),IF(VLOOKUP(BG26,NP,28)="","",CONCATENATE(" / ",IF(VLOOKUP(BG26,NP,12)=1,VLOOKUP(BG26,NP,28),-VLOOKUP(BG26,NP,28)))),IF(VLOOKUP(BG26,NP,29)="","",CONCATENATE(" / ",IF(VLOOKUP(BG26,NP,12)=1,VLOOKUP(BG26,NP,29),-VLOOKUP(BG26,NP,29))))))
Z29: =IF(AG29="","",CONCATENATE(VLOOKUP(AG32,NP,5,FALSE)," ",VLOOKUP(AG32,NP,6,FALSE))) | AG29: =IF(VLOOKUP(AG32,NP,4,FALSE)=0,"",VLOOKUP(AG32,NP,4,FALSE)) | AH29: 10 | AP29: 9 | AQ29: =IF(VLOOKUP(AQ32,NP,4,FALSE)=0,"",VLOOKUP(AQ32,NP,4,FALSE)) | AR29: =IF(AQ29="","",CONCATENATE(VLOOKUP(AQ32,NP,5,FALSE)," ",VLOOKUP(AQ32,NP,6,FALSE)))
Z30: =IF(AG29="","",CONCATENATE(VLOOKUP(AG32,NP,8,FALSE)," pts - ",VLOOKUP(AG32,NP,11,FALSE))) | AG30: =IF(OR(AG29="",VLOOKUP(AG32,NP,10,FALSE)=0),"",IF(LEN(VLOOKUP(AG32,NP,10,FALSE))=7,VLOOKUP(AG32,NP,10,FALSE),VLOOKUP(AG32,NP,10,FALSE))) | AQ30: =IF(OR(AQ29="",VLOOKUP(AQ32,NP,10,FALSE)=0),"",IF(LEN(VLOOKUP(AQ32,NP,10,FALSE))=7,VLOOKUP(AQ32,NP,10,FALSE),VLOOKUP(AQ32,NP,10,FALSE))) | AR30: =IF(AQ29="","",CONCATENATE(VLOOKUP(AQ32,NP,8,FALSE)," pts - ",VLOOKUP(AQ32,NP,11,FALSE)))
Y31: 11 | AY31: 9
R32: =IF(Y32="","",CONCATENATE(VLOOKUP(Y38,NP,5,FALSE)," ",VLOOKUP(Y38,NP,6,FALSE))) | Y32: =IF(VLOOKUP(Y38,NP,4,FALSE)=0,"",VLOOKUP(Y38,NP,4,FALSE)) | Z32: Table | AB32: =IF(VLOOKUP(AG32,NP,32,FALSE)="","",IF(VLOOKUP(AG32,NP,32,FALSE)=0,"",VLOOKUP(AG32,NP,32,FALSE))) | AC32: =IF(VLOOKUP(AG32,NP,33,FALSE)="","",IF(VLOOKUP(AG32,NP,34,FALSE)=2,"",VLOOKUP(AG32,NP,34,FALSE))) | AE32: =IF(VLOOKUP(AG32,NP,33,FALSE)="","",IF(VLOOKUP(AG32,NP,33,FALSE)=0,"",VLOOKUP(AG32,NP,33,FALSE))) | AG32: 19 | AQ32: 7 | AR32: Table | AT32: =IF(VLOOKUP(AQ32,NP,32,FALSE)="","",IF(VLOOKUP(AQ32,NP,32,FALSE)=0,"",VLOOKUP(AQ32,NP,32,FALSE))) | AU32: =IF(VLOOKUP(AQ32,NP,33,FALSE)="","",IF(VLOOKUP(AQ32,NP,34,FALSE)=2,"",VLOOKUP(AQ32,NP,34,FALSE))) | AW32: =IF(VLOOKUP(AQ32,NP,33,FALSE)="","",IF(VLOOKUP(AQ32,NP,33,FALSE)=0,"",VLOOKUP(AQ32,NP,33,FALSE))) | AY32: =IF(VLOOKUP(AY38,NP,4,FALSE)=0,"",VLOOKUP(AY38,NP,4,FALSE)) | AZ32: =IF(AY32="","",CONCATENATE(VLOOKUP(AY38,NP,5,FALSE)," ",VLOOKUP(AY38,NP,6,FALSE)))
R33: =IF(Y32="","",CONCATENATE(VLOOKUP(Y38,NP,8,FALSE)," pts - ",VLOOKUP(Y38,NP,11,FALSE))) | AH33: 11 | AI33: =IF(VLOOKUP(AI35,NP,4,FALSE)=0,"",VLOOKUP(AI35,NP,4,FALSE)) | AJ33: =IF(AI33="","",CONCATENATE(VLOOKUP(AI35,NP,5,FALSE)," ",VLOOKUP(AI35,NP,6,FALSE))) | AZ33: =IF(AY32="","",CONCATENATE(VLOOKUP(AY38,NP,8,FALSE)," pts - ",VLOOKUP(AY38,NP,11,FALSE)))
R34: =IF(Y32="","",CONCATENATE(IF(VLOOKUP(AG32,NP,23,FALSE)="","",IF(VLOOKUP(AG32,NP,12,FALSE)=1,VLOOKUP(AG32,NP,23,FALSE),-VLOOKUP(AG32,NP,23,FALSE))),IF(VLOOKUP(AG32,NP,24,FALSE)="","",CONCATENATE(" / ",IF(VLOOKUP(AG32,NP,12,FALSE)=1,VLOOKUP(AG32,NP,24,FALSE),-VLOOKUP(AG32,NP,24,FALSE)))),IF(VLOOKUP(AG32,NP,25,FALSE)="","",CONCATENATE(" / ",IF(VLOOKUP(AG32,NP,12,FALSE)=1,VLOOKUP(AG32,NP,25,FALSE),-VLOOKUP(AG32,NP,25,FALSE)))),IF(VLOOKUP(AG32,NP,26,FALSE)="","",CONCATENATE(" / ",IF(VLOOKUP(AG32,NP,12,FALSE)=1,VLOOKUP(AG32,NP,26,FALSE),-VLOOKUP(AG32,NP,26,FALSE)))),IF(VLOOKUP(AG32,NP,27,FALSE)="","",CONCATENATE(" / ",IF(VLOOKUP(AG32,NP,12,FALSE)=1,VLOOKUP(AG32,NP,27,FALSE),-VLOOKUP(AG32,NP,27,FALSE)))),IF(VLOOKUP(AG32,NP,28)="","",CONCATENATE(" / ",IF(VLOOKUP(AG32,NP,12)=1,VLOOKUP(AG32,NP,28),-VLOOKUP(AG32,NP,28)))),IF(VLOOKUP(AG32,NP,29)="","",CONCATENATE(" / ",IF(VLOOKUP(AG32,NP,12)=1,VLOOKUP(AG32,NP,29),-VLOOKUP(AG32,NP,29)))))) | AI34: =IF(OR(AI33="",VLOOKUP(AI35,NP,10,FALSE)=0),"",IF(LEN(VLOOKUP(AI35,NP,10,FALSE))=7,VLOOKUP(AI35,NP,10,FALSE),VLOOKUP(AI35,NP,10,FALSE))) | AJ34: =IF(AI33="","",CONCATENATE(VLOOKUP(AI35,NP,8,FALSE)," pts - ",VLOOKUP(AI35,NP,11,FALSE))) | AQ34: 12 | AZ34: =IF(AY32="","",CONCATENATE(IF(VLOOKUP(AQ32,NP,23,FALSE)="","",IF(VLOOKUP(AQ32,NP,12,FALSE)=1,VLOOKUP(AQ32,NP,23,FALSE),-VLOOKUP(AQ32,NP,23,FALSE))),IF(VLOOKUP(AQ32,NP,24,FALSE)="","",CONCATENATE(" / ",IF(VLOOKUP(AQ32,NP,12,FALSE)=1,VLOOKUP(AQ32,NP,24,FALSE),-VLOOKUP(AQ32,NP,24,FALSE)))),IF(VLOOKUP(AQ32,NP,25,FALSE)="","",CONCATENATE(" / ",IF(VLOOKUP(AQ32,NP,12,FALSE)=1,VLOOKUP(AQ32,NP,25,FALSE),-VLOOKUP(AQ32,NP,25,FALSE)))),IF(VLOOKUP(AQ32,NP,26,FALSE)="","",CONCATENATE(" / ",IF(VLOOKUP(AQ32,NP,12,FALSE)=1,VLOOKUP(AQ32,NP,26,FALSE),-VLOOKUP(AQ32,NP,26,FALSE)))),IF(VLOOKUP(AQ32,NP,27,FALSE)="","",CONCATENATE(" / ",IF(VLOOKUP(AQ32,NP,12,FALSE)=1,VLOOKUP(AQ32,NP,27,FALSE),-VLOOKUP(AQ32,NP,27,FALSE)))),IF(VLOOKUP(AQ32,NP,28)="","",CONCATENATE(" / ",IF(VLOOKUP(AQ32,NP,12)=1,VLOOKUP(AQ32,NP,28),-VLOOKUP(AQ32,NP,28)))),IF(VLOOKUP(AQ32,NP,29)="","",CONCATENATE(" / ",IF(VLOOKUP(AQ32,NP,12)=1,VLOOKUP(AQ32,NP,29),-VLOOKUP(AQ32,NP,29))))))
Z35: =IF(AG35="","",IF(VLOOKUP(AI35,NP,12,FALSE)=0,CONCATENATE(VLOOKUP(AI35,NP,5,FALSE)," ",VLOOKUP(AI35,NP,6,FALSE)),IF(VLOOKUP(AI35,NP,22,FALSE)=0,CONCATENATE(VLOOKUP(AI35,NP,15,FALSE)," ",VLOOKUP(AI35,NP,16,FALSE)),""))) | AG35: =IF(AND(VLOOKUP(AI35,NP,12,FALSE)=0,VLOOKUP(AI35,NP,22,FALSE)=0),"",IF(VLOOKUP(AI35,NP,12,FALSE)=0,VLOOKUP(AI35,NP,4,FALSE),IF(VLOOKUP(AI35,NP,22,FALSE)=0,VLOOKUP(AI35,NP,14,FALSE),""))) | AI35: 3 | AJ35: Table | AL35: =IF(VLOOKUP(AI35,NP,32,FALSE)="","",IF(VLOOKUP(AI35,NP,32,FALSE)=0,"",VLOOKUP(AI35,NP,32,FALSE))) | AM35: =IF(VLOOKUP(AI35,NP,33,FALSE)="","",IF(VLOOKUP(AI35,NP,34,FALSE)=2,"",VLOOKUP(AI35,NP,34,FALSE))) | AO35: =IF(VLOOKUP(AI35,NP,33,FALSE)="","",IF(VLOOKUP(AI35,NP,33,FALSE)=0,"",VLOOKUP(AI35,NP,33,FALSE))) | AQ35: =IF(VLOOKUP(AQ32,NP,14,FALSE)=0,"",VLOOKUP(AQ32,NP,14,FALSE)) | AR35: =IF(AQ35="","",CONCATENATE(VLOOKUP(AQ32,NP,15,FALSE)," ",VLOOKUP(AQ32,NP,16,FALSE)))
Z36: =IF(AG35="","",IF(VLOOKUP(AI35,NP,12,FALSE)=0,CONCATENATE(VLOOKUP(AI35,NP,8,FALSE)," pts - ",VLOOKUP(AI35,NP,11,FALSE)),IF(VLOOKUP(AI35,NP,22,FALSE)=0,CONCATENATE(VLOOKUP(AI35,NP,18,FALSE)," pts - ",VLOOKUP(AI35,NP,21,FALSE)),""))) | AG36: 11 | AR36: =IF(AQ35="","",CONCATENATE(VLOOKUP(AQ32,NP,18,FALSE)," pts - ",VLOOKUP(AQ32,NP,21,FALSE)))
AH37: 12 | AI37: =IF(VLOOKUP(AI35,NP,14,FALSE)=0,"",VLOOKUP(AI35,NP,14,FALSE)) | AJ37: =IF(AI37="","",CONCATENATE(VLOOKUP(AI35,NP,15,FALSE)," ",VLOOKUP(AI35,NP,16,FALSE))) | AR37: =IF(AQ35="","",CONCATENATE(IF(VLOOKUP(AI35,NP,23,FALSE)="","",IF(VLOOKUP(AI35,NP,12,FALSE)=1,VLOOKUP(AI35,NP,23,FALSE),-VLOOKUP(AI35,NP,23,FALSE))),IF(VLOOKUP(AI35,NP,24,FALSE)="","",CONCATENATE(" / ",IF(VLOOKUP(AI35,NP,12,FALSE)=1,VLOOKUP(AI35,NP,24,FALSE),-VLOOKUP(AI35,NP,24,FALSE)))),IF(VLOOKUP(AI35,NP,25,FALSE)="","",CONCATENATE(" / ",IF(VLOOKUP(AI35,NP,12,FALSE)=1,VLOOKUP(AI35,NP,25,FALSE),-VLOOKUP(AI35,NP,25,FALSE)))),IF(VLOOKUP(AI35,NP,26,FALSE)="","",CONCATENATE(" / ",IF(VLOOKUP(AI35,NP,12,FALSE)=1,VLOOKUP(AI35,NP,26,FALSE),-VLOOKUP(AI35,NP,26,FALSE)))),IF(VLOOKUP(AI35,NP,27,FALSE)="","",CONCATENATE(" / ",IF(VLOOKUP(AI35,NP,12,FALSE)=1,VLOOKUP(AI35,NP,27,FALSE),-VLOOKUP(AI35,NP,27,FALSE)))),IF(VLOOKUP(AI35,NP,28)="","",CONCATENATE(" / ",IF(VLOOKUP(AI35,NP,12)=1,VLOOKUP(AI35,NP,28),-VLOOKUP(AI35,NP,28)))),IF(VLOOKUP(AI35,NP,29)="","",CONCATENATE(" / ",IF(VLOOKUP(AI35,NP,12)=1,VLOOKUP(AI35,NP,29),-VLOOKUP(AI35,NP,29))))))
